Workbook

Sheet Agua
A1: Sede | B1: Año | C1: Consumos y costos | D1: Enero | E1: Febrero | F1: Marzo | G1: Abril | H1: Mayo | I1: Junio | J1: Julio | K1: Agosto | L1: Septiembre | M1: Octubre | N1: Noviembre | O1: Diciembre | P1: Total | Q1: Var %
A2: Antofagasta | B2: 2023 | C2: Consumo (m3) | D2: 134 | E2: 104 | F2: 172 | G2: 305 | H2: 334 | I2: 339 | J2: 298 | K2: 185 | L2: 293 | M2: 271 | N2: 246 | O2: 346 | P2: =SUM(D2:O2) -> 3027 | Q2: -
B3: 2024 | C3: Consumo (m3) | D3: 96 | E3: 106 | F3: 188 | G3: 353 | H3: 278 | I3: 284 | J3: 203 | K3: =78+61 -> 139 | L3: 231 | M3: 212 | N3: =137+84 -> 221 | O3: =130+130 -> 260 | P3: =SUM(D3:O3) -> 2571 | Q3: =(P3-P2)/P2 -> -0.1506442
B4: 2025 | C4: Consumo (m3) | D4: =83+93 -> 176 | E4: =82+43 -> 125 | F4: =73+41 -> 114 | G4: =176+138 -> 314 | H4: =165+184 -> 349 | I4: =160+181 -> 341 | J4: =0+130+300 -> 430 | K4: =74+117 -> 191 | L4: =153+195 -> 348 | M4: =147+140 -> 287 | N4: =160+134 -> 294 | P4: =SUM(D4:O4) -> 2969 | Q4: =(P4-P3)/P3 -> 0.15480358
A5: Barrio Universitario | B5: 2023 | C5: Consumo (m3) | D5: =130+933 -> 1063 | E5: 618 | F5: 534 | G5: 1037 | H5: 2279 | I5: 1849 | J5: 1134 | K5: 659 | L5: 1294 | N5: 1642 | O5: 1227 | P5: =SUM(D5:O5) -> 13336 | Q5: -
B6: 2024 | C6: Consumo (m3) | D6: =130+1331 -> 1461 | E6: =130+1301 -> 1431 | F6: =130+632 -> 762 | G6: =130+853 -> 983 | H6: =130+1016 -> 1146 | I6: =130+1084 -> 1214 | J6: =934+130 -> 1064 | K6: =714+130 -> 844 | L6: =130+833 -> 963 | M6: 816 | N6: =130+804 -> 934 | O6: =12+130+701 -> 843 | P6: =SUM(D6:O6) -> 12461 | Q6: =(P6-P5)/P5 -> -0.065611878
B7: 2025 | C7: Consumo (m3) | D7: 347 | E7: =151+130+312 -> 593 | F7: =151+126+315 -> 592 | G7: =151+126+1247 -> 1524 | H7: =151+130+819 -> 1100 | I7: =151+130+516 -> 797 | J7: =0+130+586 -> 716 | K7: =0+130+300 -> 430 | L7: =0+130+529 -> 659 | M7: =0+126+488 -> 614 | N7: =0+130+485 -> 615 | P7: =SUM(D7:O7) -> 7987 | Q7: =(P7-P6)/P6 -> -0.35904021
A8: Bellavista | B8: 2023 | C8: Consumo (m3) | D8: 817 | E8: 906 | F8: 1612 | G8: 2066 | H8: 2438 | I8: 2343 | J8: 1736 | K8: 1511 | L8: 1667 | M8: 1408 | N8: 1551 | O8: 1253 | P8: =SUM(D8:O8) -> 19308 | Q8: -
B9: 2024 | C9: Consumo (m3) | D9: =660+272+5+3 -> 940 | E9: =586+272+5+5 -> 868 | F9: =1134+272+5+6 -> 1417 | G9: =1623+272+5+12 -> 1912 | H9: =1268+272+5+7 -> 1552 | I9: 1050 | J9: =815+5+7 -> 827 | K9: =1006+5+7 -> 1018 | L9: =1390+147+5+9 -> 1551 | M9: =5+15+1382+190 -> 1592 | N9: =1502+357+5+18 -> 1882 | O9: =1372+178+5+35 -> 1590 | P9: =SUM(D9:O9) -> 16199 | Q9: =(P9-P8)/P8 -> -0.16102134
B10: 2025 | C10: Consumo (m3) | D10: =765*0.6+118+40 -> 617 | E10: =646*0.6+71+0+0+30 -> 488.6 | F10: =1195*0.6+22+172 -> 911 | G10: =1762*0.6+570 -> 1627.2 | H10: =1300*0.6+354 -> 1134 | I10: =1297*0.6+217 -> 995.2 | J10: =1125*0.6+64 -> 739 | K10: =321*0.6+101 -> 293.6 | L10: =2285*0.6+235 -> 1606 | M10: =1694*0.6+82 -> 1098.4 | N10: =1443*0.6+136 -> 1001.8 | O10: =1378*0.6+58 -> 884.8 | P10: =SUM(D10:O10) -> 11396.6 | Q10: =(P10-P9)/P9 -> -0.29646274
A11: Calama | B11: 2023 | C11: Consumo (m3) | P11: =SUM(D11:O11) -> 0 | Q11: -
B12: 2024 | C12: Consumo (m3) | P12: =SUM(D12:O12) -> 0 | Q12: =(P12-P11)/P11 -> #DIV/0!
B13: 2025 | C13: Consumo (m3) | P13: =SUM(D13:O13) -> 0 | Q13: =(P13-P12)/P12 -> #DIV/0!
A14: Castro | B14: 2023 | C14: Consumo (m3) | D14: 141 | E14: 104 | F14: 87 | G14: 239 | H14: 204 | I14: 212 | J14: 152 | K14: 136 | L14: 148 | M14: 147 | N14: 173 | O14: 201 | P14: =SUM(D14:O14) -> 1944 | Q14: -
B15: 2024 | C15: Consumo (m3) | D15: 152 | E15: 122 | F15: 118 | G15: 181 | H15: 177 | I15: 153 | J15: 153 | K15: 96 | L15: 174 | M15: 124 | N15: 157 | O15: 170 | P15: =SUM(D15:O15) -> 1777 | Q15: =(P15-P14)/P14 -> -0.08590535
B16: 2025 | C16: Consumo (m3) | D16: 108 | E16: 123 | F16: 100 | G16: 180 | H16: 184 | I16: 191 | J16: 175 | K16: 89 | L16: 222 | M16: 144 | N16: 133 | O16: 142 | P16: =SUM(D16:O16) -> 1791 | Q16: =(P16-P15)/P15 -> 0.0078784468
A17: Chillán | B17: 2023 | C17: Consumo (m3) | D17: 18 | E17: 18 | F17: =45+21+18+11 -> 95 | G17: =26+8+18+11+13 -> 76 | H17: =44+5+18+11+13 -> 91 | I17: 31 | J17: 21 | K17: 8 | L17: 30 | M17: 29 | N17: 31 | O17: 60 | P17: =SUM(D17:O17) -> 508 | Q17: -
B18: 2024 | C18: Consumo (m3) | D18: 15 | E18: 16 | F18: 28 | G18: 50 | H18: 41 | I18: 37 | J18: 27 | K18: 19 | L18: 44 | M18: 48 | N18: 42 | O18: =AVERAGE(D18:N18) -> 33.363636 | P18: =SUM(D18:O18) -> 400.36364 | Q18: =(P18-P17)/P17 -> -0.21188261
B19: 2025 | C19: Consumo (m3) | D19: 8 | E19: 8 | F19: 16 | G19: 38 | H19: 48 | I19: 99 | J19: 74 | K19: 19 | L19: 29 | M19: 34 | N19: 36 | O19: 19 | P19: =SUM(D19:O19) -> 428 | Q19: =(P19-P18)/P18 -> 0.069028156
A20: Concepción | B20: 2023 | C20: Consumo (m3) | D20: 192 | E20: 430 | F20: 137 | G20: =76+430 -> 506 | H20: 511 | I20: 430 | J20: 232 | K20: 197 | L20: 350 | M20: 657 | N20: 262 | O20: 442 | P20: =SUM(D20:O20) -> 4346 | Q20: -
B21: 2024 | C21: Consumo (m3) | D21: =101+176 -> 277 | E21: =341+211 -> 552 | F21: =121+274 -> 395 | G21: =274+192 -> 466 | H21: =236+274 -> 510 | I21: =210+274 -> 484 | J21: =192+504 -> 696 | K21: =183+274 -> 457 | L21: =113+274 -> 387 | M21: =274+48 -> 322 | N21: =203+274 -> 477 | O21: 360 | P21: =SUM(D21:O21) -> 5383 | Q21: =(P21-P20)/P20 -> 0.23861022
B22: 2025 | C22: Consumo (m3) | D22: =630+274 -> 904 | E22: 274 | F22: =738+274 -> 1012 | G22: =188+274 -> 462 | H22: =73+274 -> 347 | I22: =71+1321 -> 1392 | J22: =334+209 -> 543 | K22: =241+362 -> 603 | L22: =538+266 -> 804 | M22: =679+695 -> 1374 | N22: =817+437 -> 1254 | O22: =232+460 -> 692 | P22: =SUM(D22:O22) -> 9661 | Q22: =(P22-P21)/P21 -> 0.79472413
A23: Curicó | B23: 2023 | C23: Consumo (m3) | D23: 168 | E23: 136 | F23: 194 | G23: 328 | H23: 335 | I23: 354 | J23: 319 | K23: =121+87+27+44 -> 279 | L23: 170 | M23: 385 | N23: 478 | O23: =115+48+8+70 -> 241 | P23: =SUM(D23:O23) -> 3387 | Q23: -
B24: 2024 | C24: Consumo (m3) | D24: =62+24+9+39 -> 134 | E24: =46+21+10+24 -> 101 | F24: =47+21+10+22 -> 100 | G24: =67+20+9+40 -> 136 | H24: =44+10+85+139 -> 278 | I24: =113+42+9+70 -> 234 | J24: =108+44+9+61 -> 222 | K24: =82+36+10+41 -> 169 | L24: =80+25+8+42 -> 155 | M24: =60+34+8+95 -> 197 | N24: =145+37+1+122 -> 305 | O24: =94+33+12+58 -> 197 | P24: =SUM(D24:O24) -> 2228 | Q24: =(P24-P23)/P23 -> -0.34219073
B25: 2025 | C25: Consumo (m3) | D25: =54+17+8+40 -> 119 | E25: =70+29+6+47 -> 152 | F25: =86+23+9+72 -> 190 | G25: 72 | H25: =201+117+9+83 -> 410 | I25: =68+9+44+105 -> 226 | J25: =109+50+9 -> 168 | K25: =63+25+9+47 -> 144 | L25: =81+29+8+55 -> 173 | M25: =104+38+8+70 -> 220 | N25: =112+41+8+59 -> 220 | O25: =76+37+7+37 -> 157 | P25: =SUM(D25:O25) -> 2251 | Q25: =(P25-P24)/P24 -> 0.01032316
A26: La Serena | B26: 2023 | C26: Consumo (m3) | P26: =SUM(D26:O26) -> 0 | Q26: -
B27: 2024 | C27: Consumo (m3) | P27: =SUM(D27:O27) -> 0 | Q27: =(P27-P26)/P26 -> #DIV/0!
B28: 2025 | C28: Consumo (m3) | P28: =SUM(D28:O28) -> 0 | Q28: =(P28-P27)/P27 -> #DIV/0!
A29: Los Ángeles | B29: 2023 | C29: Consumo (m3) | D29: =175+41 -> 216 | E29: =72+49 -> 121 | F29: =35+76 -> 111 | G29: =186+92 -> 278 | H29: 198 | I29: 214 | J29: =165+409 -> 574 | K29: =62+151 -> 213 | L29: =227+102 -> 329 | M29: =154+453 -> 607 | N29: =154+476 -> 630 | O29: =125+384 -> 509 | P29: =SUM(D29:O29) -> 4000 | Q29: -
B30: 2024 | C30: Consumo (m3) | D30: =125+295 -> 420 | E30: =350+108 -> 458 | F30: =546+66 -> 612 | G30: =546+37 -> 583 | H30: =158+85 -> 243 | I30: =81+131 -> 212 | J30: =73+153 -> 226 | K30: =56+122 -> 178 | L30: =94+79 -> 173 | M30: =61+190 -> 251 | N30: =66+115 -> 181 | O30: =99+120 -> 219 | P30: =SUM(D30:O30) -> 3756 | Q30: =(P30-P29)/P29 -> -0.061
B31: 2025 | C31: Consumo (m3) | D31: =95+96 -> 191 | E31: =42+84 -> 126 | F31: =29+98 -> 127 | G31: =242+14 -> 256 | H31: =164+14 -> 178 | I31: =211+12 -> 223 | J31: =182+12 -> 194 | K31: =121+13 -> 134 | L31: =218+182 -> 400 | M31: =80+143 -> 223 | N31: =103+35 -> 138 | O31: =81+86 -> 167 | P31: =SUM(D31:O31) -> 2357 | Q31: =(P31-P30)/P30 -> -0.37247071
A32: Maipú | B32: 2023 | C32: Consumo (m3) | D32: 124 | E32: 88 | F32: 77 | G32: 244 | H32: 527 | I32: 429 | J32: 340 | K32: 129 | L32: 444 | M32: 241 | N32: 245 | O32: 247 | P32: =SUM(D32:O32) -> 3135 | Q32: -
B33: 2024 | C33: Consumo (m3) | D33: 201.3 | E33: 95.29 | F33: 68.58 | G33: 155.02 | H33: 358.58 | I33: 205.89 | J33: 159.79 | K33: 104.18 | L33: 483.11 | M33: 170.74 | N33: 294.06 | O33: 304.34 | P33: =SUM(D33:O33) -> 2600.88 | Q33: =(P33-P32)/P32 -> -0.17037321
B34: 2025 | C34: Consumo (m3) | D34: =7.25+43.13+19.15+90.95 -> 160.48 | E34: 172.13 | F34: 189.83 | G34: 370.21 | H34: 519.64 | I34: 552.48 | J34: 484.44 | K34: 266.82 | L34: 303.47 | M34: 264.24 | N34: 174.09 | O34: 103.67 | P34: =SUM(D34:O34) -> 3561.5 | Q34: =(P34-P33)/P33 -> 0.36934422
A35: Nivel Central | B35: 2023 | C35: Consumo (m3) | D35: 255 | E35: 236 | F35: 187 | G35: 268 | H35: 200 | I35: 197 | J35: 224 | K35: 156 | L35: 191 | M35: 174 | N35: 183 | O35: 197 | P35: =SUM(D35:O35) -> 2468 | Q35: -
B36: 2024 | C36: Consumo (m3) | D36: 204 | E36: 174 | F36: 224 | G36: 248 | H36: 300 | I36: 331 | J36: 223 | K36: 201 | L36: 209 | M36: 146 | N36: 194 | O36: 239 | P36: =SUM(D36:O36) -> 2693 | Q36: =(P36-P35)/P35 -> 0.091166937
B37: 2025 | C37: Consumo (m3) | D37: 216 | E37: 198 | F37: 233 | G37: 252 | H37: 295 | I37: 269 | J37: 238 | K37: 236 | L37: 300 | M37: 211 | N37: 287 | O37: 236 | P37: =SUM(D37:O37) -> 2971 | Q37: =(P37-P36)/P36 -> 0.1032306
A38: Osorno | B38: 2023 | C38: Consumo (m3) | D38: 160 | E38: 201 | F38: 181 | G38: 161 | H38: 194 | I38: 626 | J38: 1140 | K38: 270 | L38: 391 | M38: 283 | N38: =2+151+27+70 -> 250 | O38: =2+27+70 -> 99 | P38: =SUM(D38:O38) -> 3956 | Q38: -
B39: 2024 | C39: Consumo (m3) | D39: =1+2 -> 3 | E39: =2+550 -> 552 | F39: =1+187 -> 188 | G39: =70+120+27+2 -> 219 | H39: =231+2+0 -> 233 | I39: =2+131 -> 133 | J39: =2+171 -> 173 | K39: =2+121 -> 123 | L39: 175 | M39: 145 | N39: =4+183 -> 187 | O39: =185+1 -> 186 | P39: =SUM(D39:O39) -> 2317 | Q39: =(P39-P38)/P38 -> -0.41430738
B40: 2025 | C40: Consumo (m3) | D40: =624+0+2+0 -> 626 | E40: =0+0+2+0 -> 2 | F40: =143+0+0+1 -> 144 | G40: =1+167 -> 168 | H40: =190+2 -> 192 | I40: =186+1+2 -> 189 | J40: =1+186 -> 187 | K40: 121 | L40: 2 | M40: 1 | N40: 2 | O40: 0 | P40: =SUM(D40:O40) -> 1634 | Q40: =(P40-P39)/P39 -> -0.29477773
A41: Puerto Montt | B41: 2023 | C41: Consumo (m3) | D41: =49+128+18 -> 195 | E41: =36+125+10 -> 171 | F41: =72+116+25 -> 213 | G41: =119+192+82 -> 393 | H41: =153+89 -> 242 | I41: =181+582+63 -> 826 | J41: =438+54+122 -> 614 | K41: =178+32+137 -> 347 | L41: =308+47+236 -> 591 | M41: =156+126+283 -> 565 | N41: =149+62+373 -> 584 | O41: =128+61+294 -> 483 | P41: =SUM(D41:O41) -> 5224 | Q41: -
B42: 2024 | C42: Consumo (m3) | D42: =355+70+12 -> 437 | E42: =392+65+39 -> 496 | F42: =740+69+3 -> 812 | G42: =128+55+1034 -> 1217 | H42: =987+196+67 -> 1250 | I42: =137+55 -> 192 | J42: =316+38+513 -> 867 | K42: =20+38+128 -> 186 | L42: =17+5+74 -> 96 | M42: =159+43+77 -> 279 | N42: =72+51+71+61 -> 255 | O42: =151+28+44+61 -> 284 | P42: =SUM(D42:O42) -> 6371 | Q42: =(P42-P41)/P41 -> 0.21956355
B43: 2025 | C43: Consumo (m3) | D43: =132+19+71+61+0 -> 283 | E43: =71+61+0+46+11 -> 189 | F43: =61+21+0 -> 82 | G43: =116+34+75+61+0 -> 286 | H43: =222+68+98+0+61 -> 449 | I43: =283+78+61+91 -> 513 | J43: =252+70+81+61+0 -> 464 | K43: =238+24+53+61+0 -> 376 | L43: 211 | M43: 287 | N43: =81+214+43+61 -> 399 | O43: =222+44+75+61+0 -> 402 | P43: =SUM(D43:O43) -> 3941 | Q43: =(P43-P42)/P42 -> -0.38141579
A44: Rancagua | B44: 2023 | C44: Consumo (m3) | D44: =426+244+1 -> 671 | E44: =385+211+2 -> 598 | F44: =446+198+1 -> 645 | G44: =454+333+1 -> 788 | H44: =430+395+1 -> 826 | I44: =499+319+1 -> 819 | J44: =620+344 -> 964 | K44: =472+188 -> 660 | L44: =256+2+387+1 -> 646 | M44: =410+28+304 -> 742 | N44: =593+28+239+66 -> 926 | O44: =582+297+31 -> 910 | P44: =SUM(D44:O44) -> 9195 | Q44: -
B45: 2024 | C45: Consumo (m3) | D45: =549+219 -> 768 | E45: =545+297+1 -> 843 | F45: =510+201 -> 711 | G45: =369+297+2 -> 668 | H45: =392+316 -> 708 | I45: =238+271 -> 509 | J45: =241+296 -> 537 | K45: =196+150+1 -> 347 | L45: =195+268 -> 463 | M45: =177+344+1 -> 522 | N45: =237+433 -> 670 | O45: =354+265+1 -> 620 | P45: =SUM(D45:O45) -> 7366 | Q45: =(P45-P44)/P44 -> -0.19891245
B46: 2025 | C46: Consumo (m3) | D46: =332+0+0+215+1 -> 548 | E46: =265+0+0+176+0 -> 441 | F46: =212+0+0+157+1 -> 370 | G46: =410+0+232 -> 642 | H46: =500+335+1 -> 836 | I46: =329+237+0+0 -> 566 | J46: =278+0+0+183+1 -> 462 | K46: =192+159 -> 351 | L46: =255+0+0+303+0 -> 558 | M46: =252+0+0+271+1 -> 524 | N46: =244+0+0+248+0 -> 492 | O46: =261+293+1+0 -> 555 | P46: =SUM(D46:O46) -> 6345 | Q46: =(P46-P45)/P45 -> -0.13860983
A47: San Antonio | B47: 2023 | C47: Consumo (m3) | D47: 70 | E47: 38 | F47: 76 | G47: 203 | H47: 122 | I47: 99 | J47: 113 | K47: 69 | L47: 95 | M47: 125 | N47: 102 | O47: 84 | P47: =SUM(D47:O47) -> 1196 | Q47: -
B48: 2024 | C48: Consumo (m3) | D48: 68 | E48: 163 | F48: 106 | G48: 170 | H48: 97 | I48: 78 | J48: 92 | K48: 83 | L48: 76 | M48: 119 | N48: 88 | O48: 75 | P48: =SUM(D48:O48) -> 1215 | Q48: =(P48-P47)/P47 -> 0.015886288
B49: 2025 | C49: Consumo (m3) | D49: 40 | E49: 56 | F49: 111 | G49: 133 | H49: 133 | I49: 156 | J49: 110 | K49: 89 | L49: 95 | M49: 136 | N49: 176 | O49: 122 | P49: =SUM(D49:O49) -> 1357 | Q49: =(P49-P48)/P48 -> 0.11687243
A50: San Bernardo | B50: 2023 | C50: Consumo (m3) | D50: =36316-36258 -> 58 | E50: =36369-36316 -> 53 | F50: 161 | G50: 183 | H50: 267 | I50: 190 | J50: 69 | K50: =37390-37239 -> 151 | L50: 107 | M50: 183 | N50: 169 | O50: 100 | P50: =SUM(D50:O50) -> 1691 | Q50: -
B51: 2024 | C51: Consumo (m3) | D51: =38029-37949 -> 80 | E51: =38156.2-38029 -> 127.2 | F51: =38269-38156.2 -> 112.8 | G51: =38416-38269 -> 147 | H51: =38553-38416 -> 137 | I51: =38662-38553 -> 109 | J51: =38829-38662 -> 167 | K51: =39002-38829 -> 173 | L51: =39126-39002 -> 124 | M51: =39222-39126 -> 96 | N51: =37849-37680 -> 169 | O51: =37849-37680 -> 169 | P51: =SUM(D51:O51) -> 1611 | Q51: =(P51-P50)/P50 -> -0.047309284
B52: 2025 | C52: Consumo (m3) | D52: =39363-39312 -> 51 | E52: =39421-39363 -> 58 | F52: =39463-39421 -> 42 | G52: =39566-39463 -> 103 | H52: =39685-39566 -> 119 | I52: =39868-39685 -> 183 | J52: =39956-39868 -> 88 | K52: =40007-39956 -> 51 | L52: =40108-40007 -> 101 | M52: =40166-40108 -> 58 | N52: =40254-40166 -> 88 | O52: =40334-40254 -> 80 | P52: =SUM(D52:O52) -> 1022 | Q52: =(P52-P51)/P51 -> -0.36561142
A53: San Felipe | B53: 2023 | C53: Consumo (m3) | D53: 449 | E53: 361 | F53: 336 | G53: 399 | H53: 591 | I53: 451 | J53: 369 | K53: 327 | L53: 335 | M53: 378 | N53: 435 | O53: 653 | P53: =SUM(D53:O53) -> 5084 | Q53: -
B54: 2024 | C54: Consumo (m3) | D54: 433 | E54: 472 | F54: 476 | G54: 451 | H54: 598 | I54: 569 | J54: 512 | K54: 630 | L54: 761 | M54: 710 | N54: 761 | O54: 409 | P54: =SUM(D54:O54) -> 6782 | Q54: =(P54-P53)/P53 -> 0.33398899
B55: 2025 | C55: Consumo (m3) | D55: 397 | E55: 462 | F55: 470 | G55: 469 | H55: 511 | I55: 456 | J55: 204 | K55: 171 | L55: 198 | M55: 295 | N55: 328 | O55: 556 | P55: =SUM(D55:O55) -> 4517 | Q55: =(P55-P54)/P54 -> -0.33397228
A56: San Fernando | B56: 2023 | C56: Consumo (m3) | D56: =268+3 -> 271 | E56: 309 | F56: 466 | G56: 520 | H56: 406 | I56: 351 | J56: 345 | K56: 364 | L56: 453 | M56: 450 | N56: 499 | O56: 570 | P56: =SUM(D56:O56) -> 5004 | Q56: -
B57: 2024 | C57: Consumo (m3) | D57: =343+4 -> 347 | E57: =359+3 -> 362 | F57: =558+5 -> 563 | G57: =4+613 -> 617 | H57: =662+3 -> 665 | I57: =571+3 -> 574 | J57: =4+691 -> 695 | K57: =689+3 -> 692 | L57: =699+3 -> 702 | M57: =778+4 -> 782 | N57: =979+3 -> 982 | O57: =565+4 -> 569 | P57: =SUM(D57:O57) -> 7550 | Q57: =(P57-P56)/P56 -> 0.50879297
B58: 2025 | C58: Consumo (m3) | D58: =468+4 -> 472 | E58: =408+5 -> 413 | F58: =400+5 -> 405 | G58: =470+4 -> 474 | H58: =661+3 -> 664 | I58: =716+2 -> 718 | J58: =546+2 -> 548 | K58: =683+3 -> 686 | L58: =733+3 -> 736 | M58: =4+833 -> 837 | N58: 1396 | O58: =3+2268 -> 2271 | P58: =SUM(D58:O58) -> 9620 | Q58: =(P58-P57)/P57 -> 0.27417219
A59: San Joaquín | B59: 2023 | C59: Consumo (m3) | D59: 1285 | E59: 855 | F59: 1103 | G59: 1290 | H59: 898 | I59: 647 | J59: 632 | K59: 475 | L59: 754 | M59: 479 | N59: 1295 | O59: 1090 | P59: =SUM(D59:O59) -> 10803 | Q59: -
B60: 2024 | C60: Consumo (m3) | D60: 631 | E60: 453 | F60: 835 | G60: =0+1117 -> 1117 | H60: 1102 | I60: 734 | J60: 714 | K60: 698 | L60: 769 | M60: 855 | N60: 762 | O60: 0 | P60: =SUM(D60:O60) -> 8670 | Q60: =(P60-P59)/P59 -> -0.19744515
B61: 2025 | C61: Consumo (m3) | D61: 591 | E61: 265 | F61: 1251 | G61: 660 | H61: 854 | I61: 893 | J61: =0+702 -> 702 | K61: =568+0 -> 568 | L61: =291+0 -> 291 | M61: 715 | N61: 587 | O61: 495 | P61: =SUM(D61:O61) -> 7872 | Q61: =(P61-P60)/P60 -> -0.092041522
A62: Stgo Norte | B62: 2023 | C62: Consumo (m3) | D62: 324 | E62: 344 | F62: 383 | G62: 273 | H62: 311 | I62: 300 | J62: 195 | K62: 163 | L62: 177 | M62: 222 | N62: 386 | O62: 338 | P62: =SUM(D62:O62) -> 3416 | Q62: -
B63: 2024 | C63: Consumo (m3) | D63: 281 | E63: 736 | F63: 200 | G63: 511 | H63: 443 | I63: 324 | J63: 379 | K63: 354 | L63: 200 | M63: 223 | N63: 328 | O63: 437 | P63: =SUM(D63:O63) -> 4416 | Q63: =(P63-P62)/P62 -> 0.29274005
B64: 2025 | C64: Consumo (m3) | D64: 284 | E64: 369 | F64: 158 | G64: 157 | H64: =7+347 -> 354 | I64: 141 | J64: 110 | K64: 72 | L64: 117 | M64: 92 | N64: 155 | O64: 208 | P64: =SUM(D64:O64) -> 2217 | Q64: =(P64-P63)/P63 -> -0.49796196
A65: Talca | B65: 2023 | C65: Consumo (m3) | D65: =78+221+11 -> 310 | E65: 259 | F65: 223 | G65: 278 | H65: 333 | I65: 272 | J65: 227 | K65: 146 | L65: 108 | M65: 165 | N65: 362 | O65: 273 | P65: =SUM(D65:O65) -> 2956 | Q65: -
B66: 2024 | C66: Consumo (m3) | D66: =42+304 -> 346 | E66: =185+27 -> 212 | F66: =207+186 -> 393 | G66: =244+136 -> 380 | H66: =260+58 -> 318 | I66: =28+139 -> 167 | J66: =34+160 -> 194 | K66: =150+21 -> 171 | L66: =237+11 -> 248 | M66: =240+25 -> 265 | N66: =10+40 -> 50 | O66: =44+228 -> 272 | P66: =SUM(D66:O66) -> 3016 | Q66: =(P66-P65)/P65 -> 0.0202977
B67: 2025 | C67: Consumo (m3) | D67: =212+35 -> 247 | E67: =175+42 -> 217 | F67: =28+266 -> 294 | G67: =29+117 -> 146 | H67: 28 | I67: =347+7 -> 354 | J67: =221+4 -> 225 | K67: =3+158 -> 161 | L67: =2+137 -> 139 | M67: =3+154 -> 157 | N67: =3+188 -> 191 | O67: =29+199 -> 228 | P67: =SUM(D67:O67) -> 2387 | Q67: =(P67-P66)/P66 -> -0.20855438
A68: Temuco | B68: 2023 | C68: Consumo (m3) | D68: 107 | E68: 55 | F68: 106 | G68: 353 | H68: 398 | I68: 304 | J68: 285 | K68: 78 | L68: 350 | M68: 182 | N68: 221 | O68: 221 | P68: =SUM(D68:O68) -> 2660 | Q68: -
B69: 2024 | C69: Consumo (m3) | D69: 110 | E69: 104 | F69: 168 | G69: 395 | H69: 522 | I69: 258 | J69: 243 | K69: 140 | L69: 267 | M69: 193 | N69: 195 | O69: 227 | P69: =SUM(D69:O69) -> 2822 | Q69: =(P69-P68)/P68 -> 0.060902256
B70: 2025 | C70: Consumo (m3) | D70: 56 | E70: 52 | F70: 56 | G70: 346 | H70: 251 | I70: 293 | J70: =251+0 -> 251 | K70: =180+11 -> 191 | L70: =14+255 -> 269 | M70: =283+11 -> 294 | N70: =264+14 -> 278 | O70: =196+16 -> 212 | P70: =SUM(D70:O70) -> 2549 | Q70: =(P70-P69)/P69 -> -0.096739901
A71: Valparaíso | B71: 2023 | C71: Consumo (m3) | D71: 52 | E71: 43 | F71: 74 | G71: 161 | H71: 166 | I71: 286 | J71: 200 | K71: 127 | L71: 228 | M71: 171 | N71: 244 | P71: =SUM(D71:O71) -> 1752 | Q71: -
B72: 2024 | C72: Consumo (m3) | D72: 73 | E72: 27 | F72: 27 | G72: 83 | H72: 82 | I72: 73 | J72: 54 | K72: 36 | L72: 111 | M72: 64 | N72: 85 | O72: 84 | P72: =SUM(D72:O72) -> 799 | Q72: =(P72-P71)/P71 -> -0.54394977
B73: 2025 | C73: Consumo (m3) | D73: 44 | E73: 40 | F73: 33 | G73: 88 | H73: 79 | I73: 96 | J73: 59 | K73: 51 | L73: 110 | M73: 63 | N73: 91 | O73: 83 | P73: =SUM(D73:O73) -> 837 | Q73: =(P73-P72)/P72 -> 0.047559449
A74: Viña del Mar | B74: 2023 | C74: Consumo (m3) | D74: 222 | E74: 214 | F74: 224 | G74: 452 | H74: 447 | I74: 468 | J74: 368 | K74: 342 | L74: 464 | M74: 432 | N74: 457 | O74: 629 | P74: =SUM(D74:O74) -> 4719 | Q74: -
B75: 2024 | C75: Consumo (m3) | D75: 294 | E75: 256 | F75: 268 | G75: 616 | H75: 445 | I75: 338 | J75: 363 | K75: 273 | L75: 439 | M75: 366 | N75: 411 | O75: 531 | P75: =SUM(D75:O75) -> 4600 | Q75: =(P75-P74)/P74 -> -0.025217207
B76: 2025 | C76: Consumo (m3) | D76: 184 | E76: 312 | F76: 320 | G76: 437 | H76: 343 | I76: 408 | J76: 384 | L76: 440 | M76: 604 | N76: 366 | O76: 360 | P76: =SUM(D76:O76) -> 4158 | Q76: =(P76-P75)/P75 -> -0.096086957

Sheet Input Agua
A1: Año | B1: Consumos y costos | C1: Antofagasta | D1: Barrio Universitario | E1: Bellavista | F1: Calama | G1: Castro | H1: Chillán | I1: Concepción | J1: Curicó | K1: La Serena | L1: Los Ángeles | M1: Maipú | N1: Nivel Central | O1: Osorno | P1: Puerto Montt | Q1: Rancagua | R1: San Antonio | S1: San Bernardo | T1: San Felipe | U1: San Fernando | V1: San Joaquín | W1: Stgo Norte | X1: Talca | Y1: Temuco | Z1: Valparaíso | AA1: Viña del Mar | AB1: Total
A2: 2023 | B2: Consumo (m3) | C2: =Agua!P2 -> 3027 | D2: =Agua!P5 -> 13336 | E2: =Agua!P8 -> 19308 | F2: =Agua!P11 -> 0 | G2: =Agua!P14 -> 1944 | H2: =Agua!P17 -> 508 | I2: =Agua!P20 -> 4346 | J2: =Agua!P23 -> 3387 | K2: =Agua!P26 -> 0 | L2: =Agua!P29 -> 4000 | M2: =Agua!P32 -> 3135 | N2: =Agua!P35 -> 2468 | O2: =Agua!P38 -> 3956 | P2: =Agua!P41 -> 5224 | Q2: =Agua!P44 -> 9195 | R2: =Agua!P47 -> 1196 | S2: =Agua!P50 -> 1691 | T2: =Agua!P53 -> 5084 | U2: =Agua!P56 -> 5004 | V2: =Agua!P59 -> 10803 | W2: =Agua!P62 -> 3416 | X2: =Agua!P65 -> 2956 | Y2: =Agua!P68 -> 2660 | Z2: =Agua!P71 -> 1752 | AA2: =Agua!P74 -> 4719 | AB2: =SUM(C2:AA2) -> 113115
A3: 2023 | B3: Costo ($CLP) | C3: =Agua!#REF! -> #REF! | D3: =Agua!#REF! -> #REF! | E3: =Agua!#REF! -> #REF! | F3: =Agua!#REF! -> #REF! | G3: =Agua!#REF! -> #REF! | H3: =Agua!#REF! -> #REF! | I3: =Agua!#REF! -> #REF! | J3: =Agua!#REF! -> #REF! | ... AA3: =Agua!#REF! -> #REF! | AB3: =SUM(C3:AA3) -> #REF!
A4: 2023 | B4: Población | C4: 4350 | D4: 7555 | E4: 9650 | F4: 2463 | G4: 1226 | H4: 315 | I4: 3836 | J4: 2214 | K4: 4608 | L4: 2888 | M4: 2173 | N4: 637 | O4: 2068 | P4: 2580 | Q4: 5686 | R4: 1762 | S4: 1821 | T4: 3456 | U4: 2630 | V4: 5201 | W4: 2152 | X4: 1874 | Y4: 3422 | Z4: 1424 | AA4: 3829 | AB4: =SUM(C4:AA4) -> 79820
A5: 2024 | B5: Consumo (m3) | C5: =Agua!P3 -> 2571 | D5: =Agua!P6 -> 12461 | E5: =Agua!P9 -> 16199 | F5: =Agua!P12 -> 0 | G5: =Agua!P15 -> 1777 | H5: =Agua!P18 -> 400.36364 | I5: =Agua!P21 -> 5383 | J5: =Agua!P24 -> 2228 | K5: =Agua!P27 -> 0 | L5: =Agua!P30 -> 3756 | M5: =Agua!P33 -> 2600.88 | N5: =Agua!P36 -> 2693 | O5: =Agua!P39 -> 2317 | P5: =Agua!P42 -> 6371 | Q5: =Agua!P45 -> 7366 | R5: =Agua!P48 -> 1215 | S5: =Agua!P51 -> 1611 | T5: =Agua!P54 -> 6782 | U5: =Agua!P57 -> 7550 | V5: =Agua!P60 -> 8670 | W5: =Agua!P63 -> 4416 | X5: =Agua!P66 -> 3016 | Y5: =Agua!P69 -> 2822 | Z5: =Agua!P72 -> 799 | AA5: =Agua!P75 -> 4600 | AB5: =SUM(C5:AA5) -> 107604.24
A6: 2024 | B6: Costo ($CLP) | C6: =Agua!#REF! -> #REF! | D6: =Agua!#REF! -> #REF! | E6: =Agua!#REF! -> #REF! | F6: =Agua!#REF! -> #REF! | G6: =Agua!#REF! -> #REF! | H6: =Agua!#REF! -> #REF! | I6: =Agua!#REF! -> #REF! | J6: =Agua!#REF! -> #REF! | ... AA6: =Agua!#REF! -> #REF! | AB6: =SUM(C6:AA6) -> #REF!
A7: 2024 | B7: Población | C7: 4194 | D7: 6472 | E7: 6695 | F7: 2550 | G7: 1271 | H7: 480 | I7: 3388 | J7: 2101 | K7: 4504 | L7: 2685 | M7: 2014 | N7: 622 | O7: 1931 | P7: 2282 | Q7: 5537 | R7: 1769 | S7: 1813 | T7: 3567 | U7: 2443 | V7: 4758 | W7: 2156 | X7: 1836 | Y7: 3684 | Z7: 1260 | AA7: 3355 | AB7: =SUM(C7:AA7) -> 73367
A8: 2025 | B8: Consumo (m3) | C8: =Agua!P4 -> 2969 | D8: =Agua!P7 -> 7987 | E8: =Agua!P10 -> 11396.6 | F8: =Agua!P13 -> 0 | G8: =Agua!P16 -> 1791 | H8: =Agua!P19 -> 428 | I8: =Agua!P22 -> 9661 | J8: =Agua!P25 -> 2251 | K8: =Agua!P28 -> 0 | L8: =Agua!P31 -> 2357 | M8: =Agua!P34 -> 3561.5 | N8: =Agua!P37 -> 2971 | O8: =Agua!P40 -> 1634 | P8: =Agua!P43 -> 3941 | Q8: =Agua!P46 -> 6345 | R8: =Agua!P49 -> 1357 | S8: =Agua!P52 -> 1022 | T8: =Agua!P55 -> 4517 | U8: =Agua!P58 -> 9620 | V8: =Agua!P61 -> 7872 | W8: =Agua!P64 -> 2217 | X8: =Agua!P67 -> 2387 | Y8: =Agua!P70 -> 2549 | Z8: =Agua!P73 -> 837 | AA8: =Agua!P76 -> 4158 | AB8: =SUM(C8:AA8) -> 93829.1
A9: 2025 | B9: Costo ($CLP) | C9: =Agua!#REF! -> #REF! | D9: =Agua!#REF! -> #REF! | E9: =Agua!#REF! -> #REF! | F9: =Agua!#REF! -> #REF! | G9: =Agua!#REF! -> #REF! | H9: =Agua!#REF! -> #REF! | I9: =Agua!#REF! -> #REF! | J9: =Agua!#REF! -> #REF! | ... AA9: =Agua!#REF! -> #REF! | AB9: =SUM(C9:AA9) -> #REF!
A10: 2025 | B10: Población

Sheet Input Electricidad
A1: Año | B1: Consumos y costos | C1: Antofagasta | D1: Barrio Universitario | E1: Bellavista | F1: Calama | G1: Castro | H1: Chillán | I1: Concepción | J1: Curicó | K1: La Serena | L1: Los Ángeles | M1: Maipú | N1: Nivel Central | O1: Osorno | P1: Puerto Montt | Q1: Rancagua | R1: San Antonio | S1: San Bernardo | T1: San Felipe | U1: San Fernando | V1: San Joaquín | W1: Stgo Norte | X1: Talca | Y1: Temuco | Z1: Valparaíso | AA1: Viña del Mar | AB1: Total
A2: 2023 | B2: Consumo (kWh) | C2: =Electricidad!$P$2 -> 314560 | D2: 546731 | E2: 1048557.7 | G2: 108730 | H2: 135646 | I2: 540462.6 | J2: 72242.4 | L2: 125450 | M2: 209740.61 | N2: 407745 | O2: 127990 | P2: 203084 | Q2: 330762 | R2: 116320 | S2: 184730 | T2: 164360 | U2: 173700 | V2: 504294 | W2: 204240 | X2: 163022 | Y2: 253200 | Z2: 149500 | AA2: 203280 | AB2: =SUM(C2:AA2) -> 6288347.4
A3: 2023 | B3: Costo ($CLP) | C3: =Electricidad!#REF! -> #REF! | D3: 28356575 | E3: 1.4032709e+08 | G3: 27331700 | H3: 32383944 | I3: 83979300 | J3: 10028149 | L3: 29148700 | M3: 30729404 | N3: 139051389 | O3: 35740600 | P3: 53610545 | Q3: 64883004 | R3: 25507610 | S3: 30340887 | T3: 38598383 | U3: 34717000 | V3: 13109578 | W3: 34269859 | X3: 41070600 | Y3: 54157800 | Z3: 27041959 | AA3: 42993900 | AB3: =SUM(C3:AA3) -> #REF!
A4: 2023 | B4: Población | C4: 4350 | D4: 7555 | E4: 9650 | F4: 2463 | G4: 1226 | H4: 315 | I4: 3836 | J4: 2214 | K4: 4608 | L4: 2888 | M4: 2173 | N4: 637 | O4: 2068 | P4: 2580 | Q4: 5686 | R4: 1762 | S4: 1821 | T4: 3456 | U4: 2630 | V4: 5201 | W4: 2152 | X4: 1874 | Y4: 3422 | Z4: 1424 | AA4: 3829 | AB4: =SUM(C4:AA4) -> 79820
A5: 2024 | B5: Consumo (kWh) | C5: =Electricidad!$P$3 -> 304680 | D5: =Electricidad!$P$6 -> 583126 | E5: 1041042.2 | G5: =Electricidad!$P$15 -> 111720 | H5: =Electricidad!$P$18 -> 169350 | I5: 567833.4 | J5: =Electricidad!$P$24 -> 80049.9 | L5: 171539 | M5: 204360.56 | N5: 443863 | O5: 123635 | P5: 186578 | Q5: 365467 | R5: 129120 | S5: 176487 | T5: 163520 | U5: 187000 | V5: 466293 | W5: 278440 | X5: 174277 | Y5: 258120 | Z5: 145500 | AA5: 202720 | AB5: =SUM(C5:AA5) -> 6534721.1
A6: 2024 | B6: Costo ($CLP) | C6: =Electricidad!#REF! -> #REF! | D6: =Electricidad!#REF! -> #REF! | E6: 48324104 | G6: =Electricidad!#REF! -> #REF! | H6: =Electricidad!#REF! -> #REF! | I6: 1.2490898e+08 | J6: =Electricidad!#REF! -> #REF! | L6: 59140270 | M6: 34053627 | N6: 22182785 | O6: 44072258 | P6: 61242000 | Q6: 85328700 | R6: 36545485 | S6: 31363210 | T6: 41391423 | U6: 47122600 | V6: 13268216 | W6: 45551012 | X6: 62700400 | Y6: 70247400 | Z6: 31960960 | AA6: 53298000 | AB6: =SUM(C6:AA6) -> #REF!
A7: 2025 | B7: Población | C7: 4194 | D7: 6472 | E7: 6695 | F7: 2550 | G7: 1271 | H7: 480 | I7: 3388 | J7: 2101 | K7: 4504 | L7: 2685 | M7: 2014 | N7: 622 | O7: 1931 | P7: 2282 | Q7: 5537 | R7: 1769 | S7: 1813 | T7: 3567 | U7: 2443 | V7: 4758 | W7: 2156 | X7: 1836 | Y7: 3684 | Z7: 1260 | AA7: 3355
A8: 2025 | B8: Consumo (kWh) | C8: =Electricidad!$P$4 -> 264910 | D8: =Electricidad!$P$7 -> 517593 | E8: =Electricidad!$P$10 -> 959495.8 | G8: =Electricidad!$P$16 -> 86570 | H8: =Electricidad!$P$19 -> 153450 | I8: =Electricidad!$P$22 -> 301406 | J8: =Electricidad!$P$25 -> 78213.28 | L8: =Electricidad!$P$31 -> 167713 | M8: 0 | N8: =Electricidad!$P$37 -> 414092 | O8: =Electricidad!$P$40 -> 108184 | P8: =Electricidad!$P$43 -> 163635 | Q8: =Electricidad!$P$46 -> 327243 | R8: =Electricidad!$P$49 -> 105157 | T8: =Electricidad!$P$55 -> 163320 | U8: =Electricidad!$P$58 -> 181900 | V8: =Electricidad!$P$61 -> 439699 | W8: =Electricidad!$P$64 -> 205320 | X8: =Electricidad!$P$67 -> 159417 | Y8: =Electricidad!$P$70 -> 269010 | Z8: =Electricidad!$P$73 -> 145800 | AA8: =Electricidad!$P$76 -> 200320
A9: 2025 | B9: Costo ($CLP) | C9: =Electricidad!#REF! -> #REF! | D9: =Electricidad!#REF! -> #REF! | E9: =Electricidad!#REF! -> #REF! | G9: =Electricidad!#REF! -> #REF! | H9: =Electricidad!#REF! -> #REF! | I9: =Electricidad!#REF! -> #REF! | J9: =Electricidad!#REF! -> #REF! | L9: =Electricidad!#REF! -> #REF! | M9: 0 | N9: =Electricidad!#REF! -> #REF! | O9: =Electricidad!#REF! -> #REF! | P9: =Electricidad!#REF! -> #REF! | Q9: =Electricidad!#REF! -> #REF! | R9: =Electricidad!#REF! -> #REF! | S9: 0 | T9: =Electricidad!#REF! -> #REF! | U9: =Electricidad!#REF! -> #REF! | V9: =Electricidad!#REF! -> #REF! | W9: =Electricidad!#REF! -> #REF! | X9: =Electricidad!#REF! -> #REF! | Y9: =Electricidad!#REF! -> #REF! | Z9: =Electricidad!#REF! -> #REF! | AA9: =Electricidad!#REF! -> #REF!
A10: 2025 | B10: Población
Q13: 209740.61
Q14: 30729404
Q15: 204360.56
Q16: 34053627
Q17: 0
Q18: 0

Sheet Electricidad
A1: Sede | B1: Año | C1: Consumos y costos | D1: Enero | E1: Febrero | F1: Marzo | G1: Abril | H1: Mayo | I1: Junio | J1: Julio | K1: Agosto | L1: Septiembre | M1: Octubre | N1: Noviembre | O1: Diciembre | P1: Total | Q1: Var %
A2: Antofagasta | B2: 2023 | C2: Consumo (kWh) | D2: 25050 | E2: 23540 | F2: 28470 | G2: 32440 | H2: 29130 | I2: 28000 | J2: 24570 | K2: 22460 | L2: 23800 | M2: 23380 | N2: 27630 | O2: 26090 | P2: =SUM(D2:O2) -> 314560 | Q2: -
B3: 2024 | C3: Consumo (kWh) | D3: 24540 | E3: 26660 | F3: 24180 | G3: 24890 | H3: 33120 | I3: 25740 | J3: 25070 | K3: 25740 | L3: 23430 | M3: 22160 | N3: 25020 | O3: 24130 | P3: =SUM(D3:O3) -> 304680 | Q3: =(P3-P2)/P2 -> -0.031408952
B4: 2025 | C4: Consumo (kWh) | D4: =11040+9900 -> 20940 | E4: =15360+9450 -> 24810 | F4: 13040 | G4: 11400 | H4: =16640+9750 -> 26390 | I4: =16000+9150 -> 25150 | J4: =15520+8550 -> 24070 | K4: =14880+7650 -> 22530 | L4: =13760+7950 -> 21710 | M4: =14320+8850 -> 23170 | N4: =18560+8250 -> 26810 | O4: =15440+9450 -> 24890 | P4: =SUM(D4:O4) -> 264910 | Q4: =(P4-P3)/P3 -> -0.13053039
A5: Barrio Universitario | B5: 2023 | C5: Consumo (kWh) | D5: =33189+3162+13600 -> 49951 | E5: =31568+98 -> 31666 | F5: =11600+41577+3259 -> 56436 | G5: =15200+3734+41141 -> 60075 | H5: =41680+13200+2629 -> 57509 | I5: =2729+24800+39055 -> 66584 | J5: =2820+12400+35088 -> 50308 | K5: =33012+10000+2529 -> 45541 | L5: =33397+2649+12800 -> 48846 | M5: =2412+11200+35188 -> 48800 | N5: =12400+2479+13600 -> 28479 | O5: =2488+11200+2536 -> 16224 | P5: =SUM(D5:O5) -> 560419 | Q5: -
B6: 2024 | C6: Consumo (kWh) | D6: =29264+3114+10800 -> 43178 | E6: =22745+2797+9200 -> 34742 | F6: =32464+2913+12800 -> 48177 | G6: =38744+2501+14000 -> 55245 | H6: =38432+2402+13600 -> 54434 | I6: =2368+34873+12800 -> 50041 | J6: =40331+13200+2803 -> 56334 | K6: =2064+36696+12800 -> 51560 | L6: =11600+0+31607 -> 43207 | M6: =13600+3876+31607 -> 49083 | N6: =13600+3409+35406 -> 52415 | O6: =30710+14000+0 -> 44710 | P6: =SUM(D6:O6) -> 583126 | Q6: =(P6-P5)/P5 -> 0.040517898
B7: 2025 | C7: Consumo (kWh) | D7: =25510+13200+0 -> 38710 | E7: =11600+21745+0 -> 33345 | F7: =13600+0+28454 -> 42054 | G7: =13600+29451 -> 43051 | H7: =31708+12800+0 -> 44508 | I7: =16800+35238+0 -> 52038 | J7: =14000+10248+31809 -> 56057 | K7: =29934+0+15200 -> 45134 | L7: 32736 | M7: 40547 | N7: =3596+14800+28522 -> 46918 | O7: =(27749)+1546+(13200) -> 42495 | P7: =SUM(D7:O7) -> 517593 | Q7: =(P7-P6)/P6 -> -0.11238223
A8: Bellavista | B8: 2023 | C8: Consumo (kWh) | D8: =+(103690*0.6)+8880+3720+200+1080 -> 76094 | E8: =(99698*0.6)+10800+3520+144+940 -> 75222.8 | F8: =+(156038*0.6)+8880+4880+185+1160 -> 108727.8 | G8: =+(125907*0.6)+9480+5960+296 -> 91280.2 | H8: =9960+6960+383+1580+82346 -> 101229 | I8: =+(119054*0.6)+9540+7640+423 -> 89035.4 | J8: =+(118590*0.6)+7680+311+1280+6760 -> 87185 | K8: =+(121260*0.6)+7140+4440+288 -> 84624 | L8: =+(111871*0.6)+8280+5520+248+1880 -> 83050.6 | M8: =+(104337*0.6)+7440+4960+378 -> 75380.2 | N8: =1720+408+7800+6240+(108541*0.6) -> 81292.6 | O8: =+(108730*0.6)+6360+5960+297+1300 -> 79155 | P8: =SUM(D8:O8) -> 1032276.6 | Q8: -
B9: 2024 | C9: Consumo (kWh) | D9: =+(113025*0.6)+149+960+6120+4720 -> 79764 | E9: =4680+(107720*0.6)+142+780+5340 -> 75574 | F9: =5760+(144628*0.6)+6360+234+1080 -> 100210.8 | G9: =275+6760+1420+(131140*0.6)+8160 -> 95299 | H9: =+(134917*0.6)+9900+426+1920+8800 -> 101996.2 | I9: =9240+349+1940+7760+(124230*0.6) -> 93827 | J9: =+(125525*0.6)+10980+238+1960+7320 -> 95813 | K9: =2760+136+1140+(133860*0.6)+6660 -> 91012 | L9: =1360+(102381*0.6)+5160+740+55 -> 68743.6 | M9: =1280+(117716*0.6)+5580+88+680 -> 78257.6 | N9: =1280+(127201*0.6)+5340+57+440 -> 83437.6 | O9: =1120+67+420+(119634*0.6)+4800 -> 78187.4 | P9: =SUM(D9:O9) -> 1042122.2 | Q9: =(P9-P8)/P8 -> 0.0095377537
B10: 2025 | C10: Consumo (kWh) | D10: =+(123873*0.6)+4800+1320+40+420 -> 80903.8 | E10: =+(94774*0.6)+3420+1440+86+280 -> 62090.4 | F10: =+(140936*0.6)+1160+4800 -> 90521.6 | G10: =+(119439*0.6)+6160 -> 77823.4 | H10: =+(115073*0.6)+6780 -> 75823.8 | I10: =+(130638*0.6)+7620 -> 86002.8 | J10: =+(123920*0.6)+6120 -> 80472 | K10: =+(124708*0.6)+6660 -> 81484.8 | L10: =+(113743*0.6)+5880 -> 74125.8 | M10: =+(127521*0.6)+6060 -> 82572.6 | N10: =5640+(130697*0.6) -> 84058.2 | O10: =(237329+24393)/2*0.6+(4860+240) -> 83616.6 | P10: =SUM(D10:O10) -> 959495.8 | Q10: =(P10-P9)/P9 -> -0.079286671
A11: Calama | B11: 2023 | C11: Consumo (kWh) | P11: =SUM(D11:O11) -> 0 | Q11: -
B12: 2024 | C12: Consumo (kWh) | P12: =SUM(D12:O12) -> 0 | Q12: =(P12-P11)/P11 -> #DIV/0!
B13: 2025 | C13: Consumo (kWh) | P13: =SUM(D13:O13) -> 0 | Q13: =(P13-P12)/P12 -> #DIV/0!
A14: Castro | B14: 2023 | C14: Consumo (kWh) | D14: 5570 | E14: 5720 | F14: 7390 | G14: 8640 | H14: 10920 | I14: 10600 | J14: 10600 | K14: 10600 | L14: 10630 | M14: 10140 | N14: 9710 | O14: 8210 | P14: =SUM(D14:O14) -> 108730 | Q14: -
B15: 2024 | C15: Consumo (kWh) | D15: 6270 | E15: 6340 | F15: 7910 | G15: 9430 | H15: 12180 | I15: 12040 | J15: 11620 | K15: 10410 | L15: 9330 | M15: 10170 | N15: 8320 | O15: 7700 | P15: =SUM(D15:O15) -> 111720 | Q15: =(P15-P14)/P14 -> 0.02749931
B16: 2025 | C16: Consumo (kWh) | D16: 5340 | E16: 5840 | F16: 0 | G16: 6490 | H16: 10630 | I16: 0 | J16: 12540 | K16: 9580 | L16: 9790 | M16: 9700 | N16: 8670 | O16: 7990 | P16: =SUM(D16:O16) -> 86570 | Q16: =(P16-P15)/P15 -> -0.22511636
A17: Chillán | B17: 2023 | C17: Consumo (kWh) | D17: 99 | E17: 76 | F17: 7239 | G17: 11300 | H17: 14332 | I17: 15900 | J17: 17550 | K17: 14550 | L17: 15000 | M17: 13500 | N17: 14100 | O17: 12000 | P17: =SUM(D17:O17) -> 135646 | Q17: -
B18: 2024 | C18: Consumo (kWh) | D18: 12900 | E18: 12600 | F18: 12600 | G18: 10800 | H18: 13800 | I18: 16650 | J18: 17400 | K18: 18450 | L18: 15600 | M18: 17400 | N18: 9600 | O18: 11550 | P18: =SUM(D18:O18) -> 169350 | Q18: =(P18-P17)/P17 -> 0.24847028
B19: 2025 | C19: Consumo (kWh) | D19: 13350 | E19: 11100 | F19: 11250 | G19: 10950 | H19: 12300 | I19: 15900 | J19: 19050 | K19: 11850 | L19: 12000 | M19: 12300 | N19: 12150 | O19: 11250 | P19: =SUM(D19:O19) -> 153450 | Q19: =(P19-P18)/P18 -> -0.093888397
A20: Concepción | B20: 2023 | C20: Consumo (kWh) | D20: =266+0+10200+6000 -> 16466 | E20: 26979 | F20: 37496 | G20: 25536 | H20: 27806 | I20: 26203 | J20: 24404 | K20: 42400 | L20: 27683 | M20: 23765 | N20: 22338 | O20: 22743 | P20: =SUM(D20:O20) -> 323819 | Q20: -
B21: 2024 | C21: Consumo (kWh) | D21: 15174 | E21: 13606 | F21: 22283 | G21: 30875 | H21: 32685 | I21: 34502 | J21: 36175 | K21: 32826 | L21: 28125 | M21: 29839 | N21: 26684 | O21: 20177 | P21: =SUM(D21:O21) -> 322951 | Q21: =(P21-P20)/P20 -> -0.0026805098
B22: 2025 | C22: Consumo (kWh) | D22: =886+455+9360+50+6300 -> 17051 | E22: =724+387+7680+50+6180 -> 15021 | F22: =642+406+11880+400 -> 13328 | G22: =537+1322+15240+8400+600 -> 26099 | H22: =621+3321+17220+1150+8280 -> 30592 | I22: =587+3788+19020+1500+9300 -> 34195 | J22: =757+3783+16560+450+10740 -> 32290 | K22: =554+3402+14220+550+8580+8220 -> 35526 | L22: =14940+3411+650+7920+576 -> 27497 | M22: =590+3589+15900+600 -> 20679 | N22: =437+3077+13140+550+7080 -> 24284 | O22: =434+2450+10620+300+4140+6900 -> 24844 | P22: =SUM(D22:O22) -> 301406 | Q22: =(P22-P21)/P21 -> -0.066712907
A23: Curicó | B23: 2023 | C23: Consumo (kWh) | D23: 5561 | E23: 6276 | F23: 5607.4 | G23: 5388.7 | H23: 6006.2 | I23: 5593 | J23: 6796.3 | K23: 6790.2 | L23: 6218.3 | M23: 6404.2 | N23: 5962.9 | O23: 5638.2 | P23: =SUM(D23:O23) -> 72242.4 | Q23: -
B24: 2024 | C24: Consumo (kWh) | D24: 6058.9 | E24: =390.2+1591.2+93.6+4822.5 -> 6897.5 | F24: =328.8+1802.5+138.7+4801.7 -> 7071.7 | G24: 6892.3 | H24: 6731 | I24: 7004.4 | J24: 6905.4 | K24: 6842.7 | L24: 6852.7 | M24: 6175.6 | N24: 6149.7 | O24: 6468 | P24: =SUM(D24:O24) -> 80049.9 | Q24: =(P24-P23)/P23 -> 0.10807365
B25: 2025 | C25: Consumo (kWh) | D25: =200.3+1874.6+3.6+4508.6 -> 6587.1 | E25: =4450.6+1920.2+7.7+171.2 -> 6549.7 | F25: =4000.3+1812.1+18.1+300.1 -> 6130.6 | G25: =400.3+321.7+1550.9+124.5+4470.98 -> 6868.38 | H25: =4410+1717+22.7+466.5 -> 6616.2 | I25: =4233+1656.8+409.3+25.6 -> 6324.7 | J25: =4450.6+1920.2+7.7+171.2 -> 6549.7 | K25: =4060.4+1920.5+25.4 -> 6006.3 | L25: =4208.6+1878.8+20.9+540.8 -> 6649.1 | M25: =4217.9+1643.1+19.9+586 -> 6466.9 | N25: =4108.7+1638.7+12.3+441.9 -> 6201.6 | O25: =4888.8+2030.9+17.2+326.1 -> 7263 | P25: =SUM(D25:O25) -> 78213.28 | Q25: =(P25-P24)/P24 -> -0.022943439
A26: La Serena | B26: 2023 | C26: Consumo (kWh) | P26: =SUM(D26:O26) -> 0 | Q26: -
B27: 2024 | C27: Consumo (kWh) | P27: =SUM(D27:O27) -> 0 | Q27: =(P27-P26)/P26 -> #DIV/0!
B28: 2025 | C28: Consumo (kWh) | P28: =SUM(D28:O28) -> 0 | Q28: =(P28-P27)/P27 -> #DIV/0!
A29: Los Ángeles | B29: 2023 | C29: Consumo (kWh) | D29: 8900 | E29: 6600 | F29: 6950 | G29: 9300 | H29: 10200 | I29: 13500 | J29: 13900 | K29: 11300 | L29: 13400 | M29: 11100 | N29: 10500 | O29: 9800 | P29: =SUM(D29:O29) -> 125450 | Q29: -
B30: 2024 | C30: Consumo (kWh) | D30: 10830 | E30: 8070 | F30: 9270 | G30: 12061 | H30: 15850 | I30: 17655 | J30: 19851 | K30: 19174 | L30: 20011 | M30: 15772 | N30: 13435 | O30: 9560 | P30: =SUM(D30:O30) -> 171539 | Q30: =(P30-P29)/P29 -> 0.3673894
B31: 2025 | C31: Consumo (kWh) | D31: =8000+2457+2720 -> 13177 | E31: =7100+2576+240 -> 9916 | F31: =4800+1842+1280 -> 7922 | G31: =8500+1809+2160 -> 12469 | H31: =10100+2160+2517 -> 14777 | I31: =7674+3680+2787 -> 14141 | J31: =13874+3471+3360 -> 20705 | K31: =12500+2968+2000 -> 17468 | L31: =10500+2757+2160 -> 15417 | M31: =10100+2240+2545 -> 14885 | N31: =9800+2223+1440 -> 13463 | O31: =10000+1040+2333 -> 13373 | P31: =SUM(D31:O31) -> 167713 | Q31: =(P31-P30)/P30 -> -0.022303966
A32: Maipú | B32: 2023 | C32: Consumo (kWh) | D32: 19855.56 | E32: 21764.49 | F32: 26240.13 | G32: 20963.43 | H32: 17645.36 | I32: 13207.29 | J32: 12663.3 | K32: 13296.5 | L32: 13638.92 | M32: 14825.5 | N32: 17355.11 | O32: 18285.02 | P32: =SUM(D32:O32) -> 209740.61 | Q32: -
B33: 2024 | C33: Consumo (kWh) | D33: 21390.41 | E33: 19797.43 | F33: 21716.38 | G33: 18282.71 | H33: 14131.16 | I33: 13850.79 | J33: 15658.92 | K33: 13676.33 | L33: 12686.92 | M33: 16731.73 | N33: 19001.61 | O33: 17436.17 | P33: =SUM(D33:O33) -> 204360.56 | Q33: =(P33-P32)/P32 -> -0.02565097
B34: 2025 | C34: Consumo (kWh) | D34: =15853.23+284.95+150.25+151.56 -> 16439.99 | E34: 18260.36 | F34: 18642.02 | G34: 15874.15 | H34: 14388.97 | I34: 15278.82 | J34: 13813.41 | K34: 14089.36 | L34: 13614.96 | M34: 17677.17 | N34: 18430.63 | O34: 18623.48 | P34: =SUM(D34:O34) -> 195133.32 | Q34: =(P34-P33)/P33 -> -0.045151765
A35: Nivel Central | B35: 2023 | C35: Consumo (kWh) | D35: 33953 | E35: 38980 | F35: 43255 | G35: 32088 | H35: 31879 | I35: 34956 | J35: 36182 | K35: 32046 | L35: 29660 | M35: 28340 | N35: 29795 | O35: 36611 | P35: =SUM(D35:O35) -> 407745 | Q35: -
B36: 2024 | C36: Consumo (kWh) | D36: 44190 | E36: 40413 | F36: 40645 | G36: 31760 | H36: 41751 | I36: 37063 | J36: 41087 | K36: 36263 | L36: 27914 | M36: 32063 | N36: 32609 | O36: 38105 | P36: =SUM(D36:O36) -> 443863 | Q36: =(P36-P35)/P35 -> 0.088579872
B37: 2025 | C37: Consumo (kWh) | D37: 42249 | E37: 37050 | F37: 37601 | G37: 32041 | H37: 29211 | I37: 33740 | J37: 34581 | K37: 36007 | L37: 24291 | M37: 28907 | N37: 33406 | O37: =45008 -> 45008 | P37: =SUM(D37:O37) -> 414092 | Q37: =(P37-P36)/P36 -> -0.067072498
A38: Osorno | B38: 2023 | C38: Consumo (kWh) | D38: 6472 | E38: 8456 | F38: 10250 | G38: 13276 | H38: 13722 | I38: 13013 | J38: 12233 | K38: 11758 | L38: 10465 | M38: 11749 | O38: 6707 | P38: =SUM(D38:O38) -> 118101 | Q38: -
B39: 2024 | C39: Consumo (kWh) | D39: =2990+4977+158+0+0 -> 8125 | E39: =137+1915+4655+0+0 -> 6707 | F39: =7+6389+1650+0+168 -> 8214 | G39: =0+23+5074+2068+462 -> 7627 | H39: =0+64+718+1821+11426 -> 14029 | I39: =0+66+9589+2097+808 -> 12560 | J39: =0+69+10340+2347+826 -> 13582 | K39: =43+9812+2326+0+472 -> 12653 | L39: =0+48+7858+2526+846 -> 11278 | M39: =0+22+8303+1965+452 -> 10742 | N39: 9691 | O39: =5+222+36+5933+1883 -> 8079 | P39: =SUM(D39:O39) -> 123287 | Q39: =(P39-P38)/P38 -> 0.043911567
B40: 2025 | C40: Consumo (kWh) | D40: =1859+5355+123 -> 7337 | E40: =1207+3988+130 -> 5325 | F40: =953+6544+125 -> 7622 | G40: =8182+1328+600+182+0 -> 10292 | H40: =831+270+9620+1548 -> 12269 | I40: =957+10120+2161+1+451 -> 13690 | J40: =0+581+10033+1788+766 -> 13168 | K40: =1749+8911+0+273+510 -> 11443 | L40: =430+300+0+7589 -> 8319 | M40: =0+436+8044+572 -> 9052 | N40: =0+168+7434+318 -> 7920 | O40: =0+154+0+1353+240 -> 1747 | P40: =SUM(D40:O40) -> 108184 | Q40: =(P40-P39)/P39 -> -0.12250278
A41: Puerto Montt | B41: 2023 | C41: Consumo (kWh) | D41: 10853 | E41: 10804 | F41: 15258 | G41: 17508 | H41: 20874 | I41: 19545 | J41: 19885 | K41: 19192 | L41: 19047 | M41: 16997 | N41: 18902 | O41: 14219 | P41: =SUM(D41:O41) -> 203084 | Q41: -
B42: 2024 | C42: Consumo (kWh) | D42: 7111 | E42: 8673 | F42: 11895 | G42: 17722 | H42: 21053 | I42: 19778 | J42: 20983 | K42: 18162 | L42: 15711 | M42: 17848 | N42: 14712 | O42: 12930 | P42: =SUM(D42:O42) -> 186578 | Q42: =(P42-P41)/P41 -> -0.081276713
B43: 2025 | C43: Consumo (kWh) | D43: =10+3199+3011+2360 -> 8580 | E43: =1023+1800+2706+3148+13 -> 8690 | F43: =4470+4+4081 -> 8555 | G43: =3740+4462+41+1809+3740 -> 13792 | H43: =1928+6944+5363+48+5460 -> 19743 | I43: =7555+5040+5517+64 -> 18176 | J43: =6303+58+4907+5940 -> 17208 | K43: =1898+4340+4630+25+5641 -> 16534 | L43: =5068+4980+68+4372 -> 14488 | M43: =5032+4020+4576+38 -> 13666 | N43: =5103+3699+35 -> 8837 | O43: =3930+3221+30+6760+1425 -> 15366 | P43: =SUM(D43:O43) -> 163635 | Q43: =(P43-P42)/P42 -> -0.12296734
A44: Rancagua | B44: 2023 | C44: Consumo (kWh) | D44: 10104 | E44: 21900 | F44: 27345 | G44: 28652 | H44: 33932 | I44: 34572 | J44: 31546 | K44: 27747 | L44: 29796 | M44: 28600 | N44: 28181 | O44: 28387 | P44: =SUM(D44:O44) -> 330762 | Q44: -
B45: 2024 | C45: Consumo (kWh) | D45: 21701 | E45: 27050 | F45: 37980 | G45: 24610 | H45: 29861 | I45: 41825 | J45: 37549 | K45: 36284 | L45: 32301 | M45: 27630 | N45: 23550 | O45: 25126 | P45: =SUM(D45:O45) -> 365467 | Q45: =(P45-P44)/P44 -> 0.10492439
B46: 2025 | C46: Consumo (kWh) | D46: =7200+9+16200 -> 23409 | E46: =5820+88+13700 -> 19608 | F46: =13200+7843+5 -> 21048 | G46: =13500+15+16500 -> 30015 | H46: =34+10380+18200 -> 28614 | I46: =20+12420+18900 -> 31340 | J46: =29+13320+24300 -> 37649 | K46: =32+10860+19600 -> 30492 | L46: =8+9960+17900 -> 27868 | M46: =10680+13+17400 -> 28093 | N46: =9600+6+16400 -> 26006 | O46: =8100+1+15000 -> 23101 | P46: =SUM(D46:O46) -> 327243 | Q46: =(P46-P45)/P45 -> -0.10458947
A47: San Antonio | B47: 2023 | C47: Consumo (kWh) | D47: 9200 | E47: 7120 | F47: 7200 | G47: 9920 | H47: 11120 | I47: 9600 | J47: 11440 | K47: 10080 | L47: 10160 | M47: 10240 | N47: 10800 | O47: 9440 | P47: =SUM(D47:O47) -> 116320 | Q47: -
B48: 2024 | C48: Consumo (kWh) | D48: 8480 | E48: 7840 | F48: 8320 | G48: 10640 | H48: 12240 | I48: 12560 | J48: 12080 | K48: 13120 | L48: 11760 | M48: 10400 | N48: 11360 | O48: 10320 | P48: =SUM(D48:O48) -> 129120 | Q48: =(P48-P47)/P47 -> 0.11004127
B49: 2025 | C49: Consumo (kWh) | D49: 8640 | E49: 6480 | F49: 5040 | G49: 8800 | H49: 8720 | I49: 10400 | J49: 12240 | K49: 8880 | L49: 10480 | M49: 8560 | N49: =5103+3699+35 -> 8837 | O49: 8080 | P49: =SUM(D49:O49) -> 105157 | Q49: =(P49-P48)/P48 -> -0.18558705
A50: San Bernardo | B50: 2023 | C50: Consumo (kWh) | D50: 15060 | E50: 18615 | F50: 23468 | G50: 17992 | H50: 16133 | I50: 14235 | J50: 13713 | K50: 12942 | L50: 11967 | M50: 12739 | N50: 14385 | O50: 13481 | P50: =SUM(D50:O50) -> 184730 | Q50: -
B51: 2024 | C51: Consumo (kWh) | D51: 14790 | E51: 13481 | F51: 14770 | G51: 15367 | H51: 16232 | I51: 16260 | J51: 13081 | K51: 16515 | L51: 15439 | M51: 11082 | N51: 13635 | O51: 15835 | P51: =SUM(D51:O51) -> 176487 | Q51: =(P51-P50)/P50 -> -0.044621881
B52: 2025 | C52: Consumo (kWh) | D52: =14758+573 -> 15331 | E52: =12762+411 -> 13173 | F52: =12726+546 -> 13272 | G52: =12006+914 -> 12920 | H52: =12046+845 -> 12891 | I52: =13718+502 -> 14220 | J52: =12716+488 -> 13204 | K52: 12547 | L52: 11069 | M52: 14240 | N52: 14579 | O52: 16281.87 | P52: =SUM(D52:O52) -> 163727.87 | Q52: =(P52-P51)/P51 -> -0.072295013
A53: San Felipe | B53: 2023 | C53: Consumo (kWh) | D53: 16640 | E53: 12040 | F53: 11440 | G53: 13880 | H53: 14480 | I53: 15120 | J53: 15960 | K53: 14520 | L53: 12320 | M53: 12480 | N53: 12360 | O53: 13120 | P53: =SUM(D53:O53) -> 164360 | Q53: -
B54: 2024 | C54: Consumo (kWh) | D54: 13680 | E54: 12160 | F54: 10120 | G54: 12880 | H54: 13080 | I54: 18200 | J54: 17080 | K54: 11080 | L54: 16320 | M54: 13920 | N54: 10360 | O54: 14640 | P54: =SUM(D54:O54) -> 163520 | Q54: =(P54-P53)/P53 -> -0.0051107325
B55: 2025 | C55: Consumo (kWh) | D55: 15760 | E55: 13280 | F55: 10520 | G55: 14360 | H55: 12200 | I55: 13280 | J55: 15960 | K55: 13920 | L55: 13960 | M55: 12720 | N55: 12560 | O55: 14800 | P55: =SUM(D55:O55) -> 163320 | Q55: =(P55-P54)/P54 -> -0.001223092
A56: San Fernando | B56: 2023 | C56: Consumo (kWh) | D56: 12400 | E56: 10400 | F56: 13900 | G56: 14100 | H56: 18700 | I56: 18600 | J56: 16700 | K56: 15000 | L56: 14700 | M56: 13800 | N56: 14200 | O56: 11200 | P56: =SUM(D56:O56) -> 173700 | Q56: -
B57: 2024 | C57: Consumo (kWh) | D57: 12100 | E57: 10300 | F57: 12200 | G57: 16800 | H57: 19900 | I57: 18200 | J57: 21000 | K57: 19000 | L57: 14900 | M57: 15000 | N57: 13600 | O57: 14000 | P57: =SUM(D57:O57) -> 187000 | Q57: =(P57-P56)/P56 -> 0.076568797
B58: 2025 | C58: Consumo (kWh) | D58: 12000 | E58: 9900 | F58: 12700 | G58: 15500 | H58: 18800 | I58: 21000 | J58: 18000 | K58: 16500 | L58: 15300 | M58: 14500 | N58: 13700 | O58: 14000 | P58: =SUM(D58:O58) -> 181900 | Q58: =(P58-P57)/P57 -> -0.027272727
A59: San Joaquín | B59: 2023 | C59: Consumo (kWh) | D59: 39018 | E59: 35304 | F59: 48400 | G59: 43317 | H59: 43411 | I59: 39966 | J59: 42410 | K59: 35728 | L59: 41389 | M59: 42680 | N59: 47160 | O59: 45511 | P59: =SUM(D59:O59) -> 504294 | Q59: -
B60: 2024 | C60: Consumo (kWh) | D60: 30584 | E60: 33373 | F60: 44662 | G60: 47016 | H60: 44650 | I60: 42021 | J60: 39161 | K60: 32660 | L60: 39161 | M60: 38875 | N60: 38141 | O60: 35989 | P60: =SUM(D60:O60) -> 466293 | Q60: =(P60-P59)/P59 -> -0.075354853
B61: 2025 | C61: Consumo (kWh) | D61: 35884 | E61: 30489 | F61: 36909 | G61: 36191 | H61: 38356 | I61: 40074 | J61: 36203 | K61: 35809 | L61: 32736 | M61: 40547 | N61: 38656 | O61: 37845 | P61: =SUM(D61:O61) -> 439699 | Q61: =(P61-P60)/P60 -> -0.05703281
A62: Stgo Norte | B62: 2023 | C62: Consumo (kWh) | D62: 15480 | E62: 15600 | F62: 22320 | G62: 16320 | H62: 18600 | I62: 19320 | J62: 15600 | K62: 18120 | L62: 14880 | M62: 15600 | N62: 16920 | O62: 15480 | P62: =SUM(D62:O62) -> 204240 | Q62: -
B63: 2024 | C63: Consumo (kWh) | D63: 18240 | E63: 15480 | F63: 17280 | G63: 17160 | H63: 22200 | I63: 21360 | J63: 22000 | K63: 19080 | L63: 19560 | M63: 39120 | N63: 49920 | O63: 17040 | P63: =SUM(D63:O63) -> 278440 | Q63: =(P63-P62)/P62 -> 0.36329808
B64: 2025 | C64: Consumo (kWh) | D64: 17040 | E64: 17160 | F64: 15960 | G64: 17040 | H64: 19200 | I64: 19440 | J64: 17280 | K64: =38640-J64 -> 21360 | L64: 18120 | M64: =30000-L64 -> 11880 | N64: 15240 | O64: 15600 | P64: =SUM(D64:O64) -> 205320 | Q64: =(P64-P63)/P63 -> -0.26260595
A65: Talca | B65: 2023 | C65: Consumo (kWh) | D65: 7961 | E65: 10748 | F65: 12756 | G65: 14917 | H65: 18722 | I65: 17464 | J65: 16157 | K65: 15611 | L65: 13515 | M65: 12464 | N65: 11764 | O65: 10943 | P65: =SUM(D65:O65) -> 163022 | Q65: -
B66: 2024 | C66: Consumo (kWh) | D66: 9300 | E66: 12418 | F66: 13450 | G66: 14707 | H66: 20320 | I66: 21141 | J66: 17378 | K66: 16203 | L66: 12758 | M66: 12848 | N66: 12123 | O66: 11631 | P66: =SUM(D66:O66) -> 174277 | Q66: =(P66-P65)/P65 -> 0.069039762
B67: 2025 | C67: Consumo (kWh) | D67: =9700+1944 -> 11644 | E67: =1437+8600 -> 10037 | F67: =7600+1268 -> 8868 | G67: =1309+12800 -> 14109 | H67: =14100+1282 -> 15382 | I67: =14500+1606 -> 16106 | J67: =19600 -> 19600 | K67: =13000+1473 -> 14473 | L67: =11700+856 -> 12556 | M67: =10800+1370 -> 12170 | N67: =1022+11200 -> 12222 | O67: =11200+1050 -> 12250 | P67: =SUM(D67:O67) -> 159417 | Q67: =(P67-P66)/P66 -> -0.085266558
A68: Temuco | B68: 2023 | C68: Consumo (kWh) | D68: 13800 | E68: 10080 | F68: 15240 | G68: 19680 | H68: 26520 | I68: 26520 | J68: 26520 | K68: 26040 | L68: 23760 | M68: 23520 | N68: 24240 | O68: 17280 | P68: =SUM(D68:O68) -> 253200 | Q68: -
B69: 2024 | C69: Consumo (kWh) | D69: 18960 | E69: 15360 | F69: 16800 | G69: 24600 | H69: 27360 | I69: 24720 | J69: 28800 | K69: 24840 | L69: =21720+4140 -> 25860 | M69: =20640+4770 -> 25410 | N69: =17760+2580 -> 20340 | O69: =16560+2070 -> 18630 | P69: =SUM(D69:O69) -> 271680 | Q69: =(P69-P68)/P68 -> 0.072985782
B70: 2025 | C70: Consumo (kWh) | D70: =11640+2400 -> 14040 | E70: =11400+2730 -> 14130 | F70: =13200+2040 -> 15240 | G70: 19200 | H70: =3180+22440 -> 25620 | I70: =25800+5340 -> 31140 | J70: =25800+6210 -> 32010 | K70: =5550+23280 -> 28830 | L70: =21840+4200 -> 26040 | M70: =19200+3390 -> 22590 | N70: =18360+2100 -> 20460 | O70: =18360+1350 -> 19710 | P70: =SUM(D70:O70) -> 269010 | Q70: =(P70-P69)/P69 -> -0.0098277385
A71: Valparaíso | B71: 2023 | C71: Consumo (kWh) | D71: 14600 | E71: 10400 | F71: 9500 | G71: 10600 | H71: 16300 | I71: 13200 | J71: 13200 | K71: 12500 | L71: 10400 | M71: 12900 | N71: 12800 | O71: 13100 | P71: =SUM(D71:O71) -> 149500 | Q71: -
B72: 2024 | C72: Consumo (kWh) | D72: 13400 | E72: 11800 | F72: 9000 | G72: 11100 | H72: 16300 | I72: 13500 | J72: 12600 | K72: 10800 | L72: 10000 | M72: 11500 | N72: 12100 | O72: 13400 | P72: =SUM(D72:O72) -> 145500 | Q72: =(P72-P71)/P71 -> -0.026755853
B73: 2025 | C73: Consumo (kWh) | D73: 14000 | E73: 11200 | F73: 10700 | G73: 12200 | H73: 13000 | I73: 12300 | J73: 11100 | K73: 11700 | L73: 12000 | M73: 12100 | N73: 12000 | O73: 13500 | P73: =SUM(D73:O73) -> 145800 | Q73: =(P73-P72)/P72 -> 0.0020618557
A74: Viña del Mar | B74: 2023 | C74: Consumo (kWh) | D74: 14480 | E74: 10800 | F74: 9680 | G74: 14720 | H74: 17760 | I74: 21280 | J74: 20160 | K74: 19840 | L74: 18800 | M74: 17280 | N74: 19040 | O74: 19440 | P74: =SUM(D74:O74) -> 203280 | Q74: -
B75: 2024 | C75: Consumo (kWh) | D75: 13120 | E75: 12880 | F75: 10720 | G75: 15200 | H75: 20720 | I75: 21280 | J75: 18000 | K75: 20160 | L75: 18320 | M75: 14640 | N75: 18720 | O75: 18960 | P75: =SUM(D75:O75) -> 202720 | Q75: =(P75-P74)/P74 -> -0.0027548209
B76: 2025 | C76: Consumo (kWh) | D76: 13520 | E76: 11680 | F76: 9440 | G76: 15760 | H76: 19360 | I76: 20880 | J76: 21680 | K76: 18000 | L76: 17440 | M76: 17440 | N76: 18160 | O76: 16960 | P76: =SUM(D76:O76) -> 200320 | Q76: =(P76-P75)/P75 -> -0.01183899

Sheet Combustibles
A1: Sede | B1: Año | C1: Consumos y costos | D1: Enero | E1: Febrero | F1: Marzo | G1: Abril | H1: Mayo | I1: Junio | J1: Julio | K1: Agosto | L1: Septiembre | M1: Octubre | N1: Noviembre | O1: Diciembre | P1: Total | Q1: Var %
A2: Bellavista | B2: 2023 | C2: Consumo (m3) | D2: 160 | E2: 81 | F2: =0.231+34 -> 34.231 | G2: =0.229+91 -> 91.229 | H2: =0.357+241+653 -> 894.357 | I2: =0.205+0 -> 0.205 | J2: =0.285+91+88+94 -> 273.285 | K2: =0.243+972 -> 972.243 | L2: =0.254+0 -> 0.254 | M2: =0.294+281+242 -> 523.294 | N2: =0.274+0.31+830 -> 830.584 | O2: 102 | P2: =SUM(D2:O2) -> 3962.682 | Q2: -
B3: 2024 | C3: Consumo (m3) | D3: =3+5 -> 8 | E3: 2 | F3: =0.251+166+26 -> 192.251 | G3: =0.253+493+74 -> 567.253 | H3: =0.279+276+86 -> 362.279 | I3: =0.277+245+78 -> 323.277 | J3: =0.383+0.31+297+65 -> 362.693 | K3: =179+32 -> 211 | L3: =0.304+220+30 -> 250.304 | M3: =0.257+279+121 -> 400.257 | N3: =169+121 -> 290 | O3: =0.285+90+80 -> 170.285 | P3: =SUM(D3:O3) -> 3139.599 | Q3: =(P3-P2)/P2 -> -0.20770857
B4: 2025 | C4: Consumo (m3) | D4: =5.83 -> 5.83 | E4: =15.62+0.97 -> 16.59 | F4: =30.57+90.72 -> 121.29 | G4: =396.48+85.1+0.265 -> 481.845 | H4: =222.37+71.4+0.3+0.333 -> 294.403 | I4: =81.74+289.72+0.269 -> 371.729 | J4: =240.27+109.86+0.309 -> 350.439 | K4: =183.42+37.09+0.273 -> 220.783 | L4: =245.13+74.56+0.344 -> 320.034 | M4: =251.9+87.31+0.311 -> 339.521 | N4: =182.95+33.99+0.285 -> 217.225 | O4: =108.94+33.67 -> 142.61 | P4: =SUM(D4:O4) -> 2882.299 | Q4: =(P4-P3)/P3 -> -0.081953141
A5: Los Ángeles | B5: 2023 | C5: Consumo (m3) | I5: 737 | J5: 1556 | K5: =1270+160 -> 1430 | L5: =459+241349 -> 241808 | M5: 406.9 | N5: 144026 | O5: =99+7.34 -> 106.34 | P5: =SUM(D5:O5) -> 390070.24 | Q5: -
B6: 2024 | C6: Consumo (m3) | H6: =430+826 -> 1256 | I6: =474+731 -> 1205 | J6: 408 | K6: =392+552 -> 944 | L6: =392+552 -> 944 | M6: =281+413+1442 -> 2136 | P6: =SUM(D6:O6) -> 6893 | Q6: =(P6-P5)/P5 -> -0.98232882
B7: 2025 | C7: Consumo (m3) | H7: =335.24+1280.98 -> 1616.22 | I7: =765.96+2050.01 -> 2815.97 | J7: =667.06+1697.58 -> 2364.64 | K7: =421.66+1841.16 -> 2262.82 | L7: =698.13+545.48 -> 1243.61 | M7: =440.02+837.62 -> 1277.64 | P7: =SUM(D7:O7) -> 11580.9 | Q7: =(P7-P6)/P6 -> 0.68009575
A8: Osorno | B8: 2023 | C8: Consumo (m3) | G8: =2.5+2 -> 4.5 | H8: 3 | I8: 3 | J8: =2+4 -> 6 | K8: 2 | L8: =2+2 -> 4 | M8: 1 | N8: 2 | P8: =SUM(D8:O8) -> 25.5 | Q8: -
B9: 2024 | C9: Consumo (m3) | F9: 3 | G9: 2.674 | H9: 3 | I9: =3+2 -> 5 | J9: =3+2.5 -> 5.5 | K9: 3 | L9: 3 | M9: 3 | P9: =SUM(D9:O9) -> 28.174 | Q9: =(P9-P8)/P8 -> 0.10486275
B10: 2025 | C10: Consumo (m3) | F10: 3 | G10: 0 | H10: 3 | I10: =3+3 -> 6 | J10: 3 | K10: 2.5 | L10: 2.5 | M10: 3.5 | N10: 1.926 | P10: =SUM(D10:O10) -> 25.426 | Q10: =(P10-P9)/P9 -> -0.097536736
A11: Puerto Montt | B11: 2023 | C11: Consumo (m3) | G11: =0.872+0.9+1.2+0.75 -> 3.722 | H11: =0.897+2.4+0.64 -> 3.937 | I11: =0.9+0.774+0.68+2.4+0.75+0.78 -> 6.284 | J11: =0.643+0.63+2.6+0.81 -> 4.683 | K11: =0.934+0.66+2.9+0.66+0.69 -> 5.844 | L11: =1.035+0.616+1.6+3.2+0.54 -> 6.991 | M11: =0.994+0.8+0.84+3.2 -> 5.834 | N11: =0.9+0.6+0.58 -> 2.08 | O11: =0.333+0.15+2.9 -> 3.383 | P11: =SUM(D11:O11) -> 42.758 | Q11: -
B12: 2024 | C12: Consumo (m3) | G12: =0.34+0.904+0.69+0.64 -> 2.574 | H12: =0.7502+1+0.96+2.6 -> 5.3102 | I12: =0.9+0.75+0.75+2+3.6 -> 8 | J12: =3.6+0.96 -> 4.56 | K12: =1.1+0.944+1.9+0.54+1.02+3 -> 8.504 | L12: =1+0.84+0.84+0.5 -> 3.18 | M12: =1.142+0.9+1.8+2 -> 5.842 | N12: =0.901+0.8+1 -> 2.701 | P12: =SUM(D12:O12) -> 40.6712 | Q12: =(P12-P11)/P11 -> -0.048804902
B13: 2025 | C13: Consumo (m3) | F13: =0.4+0.66+1.8+2.6+0.6 -> 6.06 | G13: =0.5+0.9 -> 1.4 | H13: =1.8+1+0.66+0.54+1.02+1.6+0.5 -> 7.12 | I13: =0.6+0.7+0.66+0.66+2.8+0.339 -> 5.759 | J13: =0.75+0.634+0.9+0.84+2.6 -> 5.724 | K13: =0.619+0.24+0.6+0.72+3.2 -> 5.379 | L13: =0.6+0.75+0.69 -> 2.04 | M13: =1.2+0.496+3.021+0.6 -> 5.317 | N13: =0.478+0.3 -> 0.778 | O13: 1.35 | P13: =SUM(D13:O13) -> 40.927 | Q13: =(P13-P12)/P12 -> 0.0062894628
A14: San Joaquín | B14: 2023 | C14: Consumo (m3) | G14: =0.82+2.02+1.66 -> 4.5 | P14: =SUM(D14:O14) -> 4.5 | Q14: -
B15: 2024 | C15: Consumo (m3) | G15: =2.2+2.03 -> 4.23 | P15: =SUM(D15:O15) -> 4.23 | Q15: =(P15-P14)/P14 -> -0.06
B16: 2025 | C16: Consumo (m3) | F16: 1.881 | P16: =SUM(D16:O16) -> 1.881 | Q16: =(P16-P15)/P15 -> -0.55531915
A17: Temuco | B17: 2023 | C17: Consumo (m3) | F17: 1.97 | H17: 1774.1 | I17: 3862.02 | J17: 3942 | K17: 3739.92 | L17: 2633.18 | M17: 2077.34 | P17: =SUM(D17:O17) -> 18030.53 | Q17: -
B18: 2024 | C18: Consumo (m3) | G18: 964.24 | H18: 2863.35 | I18: 3458.51 | J18: 3934.49 | K18: 3554.18 | M18: 1569.05 | P18: =SUM(D18:O18) -> 16343.82 | Q18: =(P18-P17)/P17 -> -0.093547444
B19: 2025 | C19: Consumo (m3) | H19: 2033 | I19: 3030.08 | J19: 3570.56 | K19: 2605.03 | L19: 2212.72 | M19: 529.01 | P19: =SUM(D19:O19) -> 13980.4 | Q19: =(P19-P18)/P18 -> -0.14460634

Sheet Consumo de agua Sedes APL 
A1: Sede | B1: Año | C1: Consumos y costos | D1: Enero | E1: Febrero | F1: Marzo | G1: Abril | H1: Mayo | I1: Junio | J1: Julio | K1: Agosto | L1: Septiembre | M1: Octubre | N1: Noviembre | O1: Diciembre | P1: Total | Q1: Var %
A2: Antofagasta | B2: 2023 | C2: Consumo (m3) | D2: =49+66 -> 115 | E2: =30+55 -> 85 | F2: =97+142 -> 239 | G2: =126+208 -> 334 | H2: =134+205 -> 339 | I2: =118+180 -> 298 | J2: =88+97 -> 185 | K2: =110+183 -> 293 | L2: =142+129 -> 271 | M2: =111+135 -> 246 | N2: =221+115 -> 336 | O2: =64+78 -> 142 | P2: =SUM(D2:O2) -> 2883 | Q2: -
B3: 2023 | C3: Costo ($CLP) | D3: =125650+168780 -> 294430 | E3: =73460+140870 -> 214330 | F3: =247410+390200 -> 637610 | G3: =320990+529000 -> 849990 | H3: =341270+521390 -> 862660 | I3: =300690+457960 -> 758650 | J3: =224190+246990 -> 471180 | K3: =279910+464760 -> 744670 | L3: =328020+360940 -> 688960 | M3: =282436+343211 -> 625647 | N3: =323360+590419 -> 913779 | O3: =0+0 -> 0 | P3: =SUM(D3:O3) -> 7061906 | Q3: -
B4: 2024 | C4: Consumo (m3) | D4: 96 | E4: 106 | F4: 188 | G4: 353 | H4: 278 | I4: 284 | J4: 203 | K4: =78+61 -> 139 | L4: 231 | M4: 212 | N4: =137+84 -> 221 | O4: =130+130 -> 260 | P4: =SUM(D4:O4) -> 2571 | Q4: =(P4-P2)/P2 -> -0.1082206
B5: 2024 | C5: Costo ($CLP) | D5: =110240+135560 -> 245800 | E5: =135560+110240 -> 245800 | F5: 0 | G5: =135660+266100 -> 401760 | H5: =352310+568030 -> 920340 | I5: =331510+393900 -> 725410 | J5: =321110+419880 -> 740990 | K5: =204160+159970 -> 364130 | L5: =289920+313320 -> 603240 | M5: =308120+245740 -> 553860 | N5: =357510+219750 -> 577260 | O5: =349140+341480 -> 690620 | P5: =SUM(D5:O5) -> 6069210 | Q5: =(P5-P3)/P3 -> -0.14057055
B6: 2025 | C6: Consumo (m3) | D6: =83+93 -> 176 | E6: =82+43 -> 125 | F6: =73+41 -> 114 | G6: =176+138 -> 314 | H6: =165+184 -> 349 | I6: =160+181 -> 341 | J6: =0+130+300 -> 430 | K6: =74+117 -> 191 | L6: =153+195 -> 348 | M6: =147+140 -> 287 | N6: =160+134 -> 294 | P6: =SUM(D6:O6) -> 2969 | Q6: =(P6-P4)/P4 -> 0.15480358
B7: 2025 | C7: Costo ($CLP) | D7: =233450+250190 -> 483640 | E7: =221190+116690 -> 337880 | F7: =197069+11328 -> 208397 | G7: =469930+662880 -> 1132810 | H7: =435537+494483 -> 930020 | I7: =486445+430177 -> 916622 | J7: =383955+130+920 -> 385005 | K7: =314970+199748 -> 514718 | L7: =523957+411422 -> 935379 | M7: =376590+395340 -> 771930 | N7: =360510+430177 -> 790687 | P7: =SUM(D7:O7) -> 7407088 | Q7: =(P7-P5)/P5 -> 0.22043693
A8: Rancagua | B8: 2023 | C8: Consumo (m3) | D8: =426+244+1 -> 671 | E8: =385+211+2 -> 598 | F8: =446+198+1 -> 645 | G8: =454+333+1 -> 788 | H8: =430+395+1 -> 826 | I8: =499+319+1 -> 819 | J8: =620+344 -> 964 | K8: =472+188 -> 660 | L8: =256+2+387+1 -> 646 | M8: =410+28+304 -> 742 | N8: =593+28+239+66 -> 926 | O8: =582+297+31 -> 910 | P8: =SUM(D8:O8) -> 9195 | Q8: -
B9: 2023 | C9: Costo ($CLP) | D9: =2290+360320+646990 -> 1009600 | E9: =3760+311710+568080 -> 883550 | F9: =2230+286520+683190 -> 971940 | G9: =2280+492300+707260 -> 1201840 | H9: =2290+583430+635060 -> 1220780 | I9: =2290+471340+736830 -> 1210460 | J9: =810+508210+915310 -> 1424330 | K9: =810+278110+697010 -> 975930 | L9: =2290+571630+378410 -> 952330 | M9: =820+449210+605560 -> 1055590 | N9: =98160+353340+875480 -> 1326980 | O9: =46870+441880+882260 -> 1371010 | P9: =SUM(D9:O9) -> 13604340 | Q9: -
B10: 2024 | C10: Consumo (m3) | D10: =549+219 -> 768 | E10: =545+297+1 -> 843 | F10: =510+201 -> 711 | G10: =369+297+2 -> 668 | H10: =392+316 -> 708 | I10: =238+271 -> 509 | J10: =241+296 -> 537 | K10: =196+150+1 -> 347 | L10: =195+268 -> 463 | M10: =177+344+1 -> 522 | N10: =237+433 -> 670 | O10: =354+265+1 -> 620 | P10: =SUM(D10:O10) -> 7366 | Q10: =(P10-P8)/P8 -> -0.19891245
B11: 2024 | C11: Costo ($CLP) | D11: =850+325710+888760 -> 1215320 | E11: =2320+441480+879250 -> 1323050 | F11: =840+299060+795990 -> 1095890 | G11: =3880+457700+578480 -> 1040060 | H11: =840+479480+594610 -> 1074930 | I11: =860+425960+374200 -> 801020 | J11: =860+467900+381110 -> 849870 | K11: =3310+717060+701380 -> 1421750 | L11: =870+426970+311180 -> 739020 | M11: =1580+119120+281410 -> 402110 | N11: =860+377080+860+687580 -> 1066380 | O11: =2450+420820+860+571750 -> 995880 | P11: =SUM(D11:O11) -> 12025280 | Q11: =(P11-P9)/P9 -> -0.11607031
B12: 2025 | C12: Consumo (m3) | D12: =332+0+0+215+1 -> 548 | E12: =265+0+0+176+0 -> 441 | F12: =212+0+0+157+1 -> 370 | G12: =410+0+232 -> 642 | H12: =500+335+1 -> 836 | I12: =329+237+0+0 -> 566 | J12: =278+0+0+183+1 -> 462 | K12: =192+159 -> 351 | L12: =255+0+0+303+0 -> 558 | M12: =252+0+0+271+1 -> 524 | N12: =244+0+0+248+0 -> 492 | O12: =293+0+261+1+0 -> 555 | P12: =SUM(D12:O12) -> 6345 | Q12: =(P12-P10)/P10 -> -0.13860983
B13: 2025 | C13: Costo ($CLP) | D13: =342290+869+2450+0+578500 -> 924109 | E13: =428750+0+890+285050+880 -> 715570 | F13: =343170+0+890+254370+2510 -> 600940 | G13: =766950+0+890+375550+880 -> 1144270 | H13: =809080+0+880+551500+2510 -> 1363970 | I13: =533920+0+890+384870+890 -> 920570 | J13: =2510+300110+890+0+455980 -> 759490 | K13: =258500+311970 -> 570470 | L13: =880+491360+0+0+413260 -> 905500 | M13: =2510+439980+0+0+409190 -> 851680 | N13: =396220+402700+890 -> 799810 | O13: =433740+0+493420+250 -> 927410 | P13: =SUM(D13:O13) -> 10483789 | Q13: =(P13-P11)/P11 -> -0.12818753
A14: San Joaquín | B14: 2023 | C14: Consumo (m3) | D14: =1234+51 -> 1285 | E14: 855 | F14: 1103 | G14: 1290 | H14: 898 | I14: 647 | J14: 632 | K14: 475 | L14: 754 | M14: 479 | N14: 1295 | O14: 1090 | P14: =SUM(D14:O14) -> 10803 | Q14: -
B15: 2023 | C15: Costo ($CLP) | D15: =1889288+60654 -> 1949942 | E15: =56623+979011 -> 1035634 | F15: =61371+1514277 -> 1575648 | G15: =61371+1531849 -> 1593220 | H15: =61371+1006174 -> 1067545 | I15: =61371+708252 -> 769623 | J15: =61371+690449 -> 751820 | K15: =838+564632 -> 565470 | L15: =838+895788 -> 896626 | M15: =838+569380 -> 570218 | N15: =838+1537924 -> 1538762 | O15: =1544901+838 -> 1545739 | P15: =SUM(D15:O15) -> 13860247 | Q15: -
B16: 2024 | C16: Consumo (m3) | D16: 631 | E16: 453 | F16: 835 | G16: =0+1117 -> 1117 | H16: 1102 | I16: 734 | J16: 714 | K16: 698 | L16: 769 | M16: 855 | N16: 762 | O16: 0 | P16: =SUM(D16:O16) -> 8670 | Q16: =(P16-P14)/P14 -> -0.19744515
B17: 2024 | C17: Costo ($CLP) | D17: =868+1097178 -> 1098046 | E17: =868+547298 -> 548166 | F17: =868+1053662 -> 1054530 | G17: =868+1405129 -> 1405997 | H17: =868+1330152 -> 1331020 | I17: =868+886254 -> 887122 | J17: =868+862130 -> 862998 | K17: =868+842828 -> 843696 | L17: =891+958118 -> 959009 | M17: =891+1065168 -> 1066059 | N17: =891+891 -> 1782 | O17: =891+891 -> 1782 | P17: =SUM(D17:O17) -> 10060207 | Q17: =(P17-P15)/P15 -> -0.27416827
B18: 2025 | C18: Consumo (m3) | D18: 591 | E18: 265 | F18: 1251 | G18: 660 | H18: 854 | I18: 893 | J18: =0+702 -> 702 | K18: =568+0 -> 568 | L18: =291+0 -> 291 | M18: 715 | N18: 587 | P18: =SUM(D18:O18) -> 7377 | Q18: =(P18-P16)/P16 -> -0.14913495
B19: 2025 | C19: Costo ($CLP) | D19: =891+736548 -> 737439 | E19: =330755+891 -> 331646 | F19: =2088817+891 -> 2089708 | G19: =822438+891 -> 823329 | H19: 1079231 | I19: 1112469 | J19: =897224+920 -> 898144 | K19: =726134+920 -> 727054 | L19: =914+382698 -> 383612 | M19: 1166628 | N19: 775999 | P19: =SUM(D19:O19) -> 10125259 | Q19: =(P19-P17)/P17 -> 0.0064662685
A20: Temuco | B20: 2023 | C20: Consumo (m3) | D20: 107 | E20: 55 | F20: 106 | G20: 353 | H20: 398 | I20: 304 | J20: 285 | K20: 78 | L20: 350 | M20: 182 | N20: 221 | O20: 221 | P20: =SUM(D20:O20) -> 2660 | Q20: -
B21: 2023 | C21: Costo ($CLP) | D21: 184287 | E21: 95511 | F21: 182581 | G21: 660828 | H21: 681106 | I21: 520622 | J21: 488184 | K21: 132263 | L21: 599157 | M21: 312335 | N21: 1811481 | O21: 2918655 | P21: =SUM(D21:O21) -> 8587010 | Q21: -
B22: 2024 | C22: Consumo (m3) | D22: 110 | E22: 104 | F22: 168 | G22: 395 | H22: 522 | I22: 258 | J22: 243 | K22: 140 | L22: 267 | M22: 193 | N22: 195 | O22: 227 | P22: =SUM(D22:O22) -> 2822 | Q22: =(P22-P20)/P20 -> 0.060902256
B23: 2024 | C23: Costo ($CLP) | D23: 191269 | E23: 180927 | F23: 291239 | G23: 712210 | H23: 928044 | I23: 459553 | J23: 432933 | K23: 250150 | L23: 475523 | M23: 344204 | N23: 347753 | O23: 404538 | P23: =SUM(D23:O23) -> 5018343 | Q23: =(P23-P21)/P21 -> -0.41558901
B24: 2025 | C24: Consumo (m3) | D24: 56 | E24: 52 | F24: 56 | G24: 346 | H24: 251 | I24: 293 | J24: =251 -> 251 | K24: =180 -> 180 | L24: =255 -> 255 | M24: =283 -> 283 | N24: =264 -> 264 | O24: =196+16 -> 212 | P24: =SUM(D24:O24) -> 2499 | Q24: =(P24-P22)/P22 -> -0.11445783
B25: 2025 | C25: Costo ($CLP) | D25: 101085 | E25: 93986 | F25: 101085 | G25: 672993 | H25: 464722 | I25: =542187 -> 542187 | J25: =464722 -> 464722 | K25: =333770 -> 333770 | L25: 472100 | M25: =523744 -> 523744 | N25: =488699 -> 488699 | O25: =305278+22599 -> 327877 | P25: =SUM(D25:O25) -> 4586970 | Q25: =(P25-P23)/P23 -> -0.08595925
A26: Total Institucional | B26: 2023 | C26: Consumo (m3) | D26: =SUM(D2,D8,D14,D20) -> 2178 | E26: =SUM(,E2,E8,E14,E20) -> 1593 | F26: =SUM(F2,F8,F14,F20) -> 2093 | G26: =SUM(,G2,G8,G14,G20) -> 2765 | H26: =SUM(H2,H8,H14,H20) -> 2461 | I26: =SUM(,I2,I8,I14,I20) -> 2068 | J26: =SUM(J2,J8,J14,J20) -> 2066 | K26: =SUM(,K2,K8,K14,K20) -> 1506 | L26: =SUM(L2,L8,L14,L20) -> 2021 | M26: =SUM(,M2,M8,M14,M20) -> 1649 | N26: =SUM(N2,N8,N14,N20) -> 2778 | P26: =SUM(D26:O26) -> 23178 | Q26: -
B27: 2023 | C27: Costo ($CLP) | D27: =SUM(D3,D9,D15,D21) -> 3438259 | E27: =SUM(E3,E9,E15,E21) -> 2229025 | F27: =SUM(F3,F9,F15,F21) -> 3367779 | G27: =SUM(G3,G9,G15,G21) -> 4305878 | H27: =SUM(H3,H9,H15,H21) -> 3832091 | I27: =SUM(I3,I9,I15,I21) -> 3259355 | J27: =SUM(J3,J9,J15,J21) -> 3135514 | K27: =SUM(K3,K9,K15,K21) -> 2418333 | ... N27: =SUM(N3,N9,N15,N21) -> 5591002 | P27: =SUM(D27:O27) -> 37278099 | Q27: -
B28: 2024 | C28: Consumo (m3) | D28: =SUM(D4,D10,D16,D22) -> 1605 | E28: =SUM(E4,E10,E16,E22) -> 1506 | F28: =SUM(F4,F10,F16,F22) -> 1902 | G28: =SUM(G4,G10,G16,G22) -> 2533 | H28: =SUM(H4,H10,H16,H22) -> 2610 | I28: =SUM(I4,I10,I16,I22) -> 1785 | J28: =SUM(J4,J10,J16,J22) -> 1697 | K28: =SUM(K4,K10,K16,K22) -> 1324 | ... N28: =SUM(N4,N10,N16,N22) -> 1848 | P28: =SUM(D28:O28) -> 20322 | Q28: =(P28-P26)/P26 -> -0.1232203
B29: 2024 | C29: Costo ($CLP) | D29: =SUM(D5,D11,D17,D23) -> 2750435 | E29: =SUM(E5,E11,E17,E23) -> 2297943 | F29: =SUM(F5,F11,F17,F23) -> 2441659 | G29: =SUM(G5,G11,G17,G23) -> 3560027 | H29: =SUM(H5,H11,H17,H23) -> 4254334 | I29: =SUM(I5,I11,I17,I23) -> 2873105 | J29: =SUM(J5,J11,J17,J23) -> 2886791 | K29: =SUM(K5,K11,K17,K23) -> 2879726 | ... N29: =SUM(N5,N11,N17,N23) -> 1993175 | P29: =SUM(D29:O29) -> 31080220 | Q29: =(P29-P27)/P27 -> -0.1662606 | R29: ACUM 2024 | S29: ACUM 2023
B30: 2025 | C30: Consumo (m3) | D30: =SUM(D6,D12,D18,D24) -> 1371 | E30: =SUM(E6,E12,E18,E24) -> 883 | F30: =SUM(F6,F12,F18,F24) -> 1791 | G30: =SUM(G6,G12,G18,G24) -> 1962 | H30: =SUM(H6,H12,H18,H24) -> 2290 | I30: =SUM(I6,I12,I18,I24) -> 2093 | J30: =SUM(J6,J12,J18,J24) -> 1845 | K30: =SUM(K6,K12,K18,K24) -> 1290 | ... N30: =SUM(N6,N12,N18,N24) -> 1637 | P30: =SUM(D30:O30) -> 18423 | Q30: =(P30-P28)/P28 -> -0.093445527 | R30: =(P30-(SUM(D28:N28)))/(SUM(D28:O28)) -> -0.093445527 | S30: =(P30-(SUM(D26:N26)))/(SUM(D26:N26)) -> -0.20515144
B31: 2025 | C31: Costo ($CLP) | D31: =SUM(D1,D7,D13,D19,D25) -> 2246273 | E31: =SUM(E1,E7,E13,E19,E25) -> 1479082 | F31: =SUM(F1,F7,F13,F19,F25) -> 3000130 | G31: =SUM(G1,G7,G13,G19,G25) -> 3773402 | H31: =SUM(H1,H7,H13,H19,H25) -> 3837943 | I31: =SUM(I1,I7,I13,I19,I25) -> 3491848 | J31: =SUM(J1,J7,J13,J19,J25) -> 2507361 | K31: =SUM(K1,K7,K13,K19,K25) -> 2146012 | ... N31: =SUM(N1,N7,N13,N19,N25) -> 2855195 | P31: =SUM(D31:O31) -> 31347819 | Q31: =(P31-P29)/P29 -> 0.0086099455 | R31: =(P31-(SUM(D29:N29)))/(SUM(D29:N29)) -> 0.0086099455 | S31: =(P31-(SUM(D27:N27)))/(SUM(D27:N27)) -> -0.15908215

Sheet Info sedes para Cliente Libre
A1: Sede | B1: Dirección de empalme | C1: Potencia Instalada (kW) | D1: Tipo de Tarifa | E1: N° de cliente | F1: Distribuidor de energía
A2: Barrio Universitario | B2: Ejército 49; | C2: 400 | D2: AT4.3 | E2: 2789110-1 | F2: ENEL
A3: Bellavista | B3: Bellavista 103 | C3: 1250 | D3: ATP | E3: 2867823-1 | F3: ENEL
A4: Chillán | B4: Av. Bernardo O'Higgins 360 | C4: 389.7 | D4: AT4.3 | E4: 6625289 | F4: CGE
A5: Concepción | B5: Angol 470 | C5: 329.08 | D5: BT3 | E5: 2045703 | F5: CGE
A6: Viña del Mar | B6: Álvarez 860 | C6: 329.08 | D6: BT4.3 | E6: 5248464 | F6: CGE
B8: Bellavista 103 | D8: Barrio Universitario | F8: CGE | H8: Chillán | J8: Viña del Mar
B9: Mes | C9: Consumo (kWh) | D9: Mes | E9: 5248464 | F9: CGE | G9: Consumo (kWh) | H9: Mes | I9: Consumo (kWh) | J9: Mes | K9: Consumo (kWh)
B10: Enero | C10: 113025 | D10: Enero | E10: 10800 | F10: Enero | G10: 12900 | H10: Enero | I10: 9420 | J10: Enero | K10: 13120
B11: Febrero | C11: 107720 | D11: Febrero | E11: 9200 | F11: Febrero | G11: 12600 | H11: Febrero | I11: 8820 | J11: Febrero | K11: 12880
B12: Marzo | C12: 144628 | D12: Marzo | E12: 12800 | F12: Marzo | G12: 10800 | H12: Marzo | I12: 13440 | J12: Marzo | K12: 10720
B13: Abril | C13: 131140 | D13: Abril | E13: 14000 | F13: Abril | G13: 13800 | H13: Abril | I13: 18660 | J13: Abril | K13: 15200
B14: Mayo | C14: 134917 | D14: Mayo | E14: 13600 | F14: Mayo | G14: 16650 | H14: Mayo | I14: 18900 | J14: Mayo | K14: 20720
B15: Junio | C15: 124230 | D15: Junio | E15: 12800 | F15: Junio | G15: 17400 | H15: Junio | I15: 19200 | J15: Junio | K15: 21280
B16: Julio | C16: 125525 | D16: Julio | E16: 13200 | F16: Julio | G16: 18450 | H16: Julio | I16: 20040 | J16: Julio | K16: 18000
B17: Agosto | C17: 133860 | D17: Agosto | E17: 12800 | F17: Agosto | G17: 15600 | H17: Agosto | I17: 16860 | J17: Agosto | K17: 20160
B18: Septiembre | C18: 102381 | D18: Septiembre | E18: 11600 | F18: Septiembre | G18: 17400 | H18: Septiembre | I18: 14580 | J18: Septiembre | K18: 18320
B19: Octubre | C19: 117716 | D19: Octubre | E19: 13600 | F19: Octubre | G19: 9600 | H19: Octubre | I19: 16620 | J19: Octubre | K19: 14640
B20: Noviembre | C20: 127201 | D20: Noviembre | E20: 13600 | F20: Noviembre | G20: 11550 | H20: Noviembre | I20: 15060 | J20: Noviembre | K20: 18720
B21: Diciembre | C21: 119304 | D21: Diciembre | E21: 14000 | F21: Diciembre | G21: 11550 | H21: Diciembre | I21: 10380 | J21: Diciembre | K21: 18960
B22: Total anual | C22: 1481647 | D22: Total anual | E22: =SUM(E10:E21) -> 152000 | F22: Total anual | G22: =SUM(G10:G21) -> 168300 | H22: Total anual | I22: =SUM(I10:I21) -> 181980 | J22: Total anual | K22: =SUM(K10:K21) -> 202720
